|SUCCESS| pw136988 [PATCH] net/af_xdp: fix resources leak when xsk c
dpdklab at iol.unh.edu
dpdklab at iol.unh.edu
Thu Feb 22 05:06:01 CET 2024
Test-Label: iol-unit-arm64-testing
Test-Status: SUCCESS
http://dpdk.org/patch/136988
_Testing PASS_
Submitter: Yunjian Wang <wangyunjian at huawei.com>
Date: Thursday, February 22 2024 03:07:42
DPDK git baseline: Repo:dpdk
Branch: master
CommitID:dee3c01a2297538d7b65048aedfb372464f89942
136988 --> testing pass
Test environment and result as below:
+--------------------------+----------------+------------------------------+--------------+---------------------------+
| Environment | dpdk_unit_test | cryptodev_sw_snow3g_autotest | lpm_autotest | cryptodev_sw_zuc_autotest |
+==========================+================+==============================+==============+===========================+
| CentOS Stream 9 (ARM) | PASS | SKIPPED | SKIPPED | SKIPPED |
+--------------------------+----------------+------------------------------+--------------+---------------------------+
| Debian 11 (Buster) (ARM) | PASS | SKIPPED | SKIPPED | SKIPPED |
+--------------------------+----------------+------------------------------+--------------+---------------------------+
| Fedora 37 (ARM) | PASS | SKIPPED | SKIPPED | SKIPPED |
+--------------------------+----------------+------------------------------+--------------+---------------------------+
| Fedora 38 (ARM) | PASS | SKIPPED | SKIPPED | SKIPPED |
+--------------------------+----------------+------------------------------+--------------+---------------------------+
| Ubuntu 20.04 (ARM) | PASS | SKIPPED | SKIPPED | SKIPPED |
+--------------------------+----------------+------------------------------+--------------+---------------------------+
| Debian 11 (arm) | SKIPPED | PASS | SKIPPED | PASS |
+--------------------------+----------------+------------------------------+--------------+---------------------------+
| Ubuntu 20.04 ARM SVE | SKIPPED | SKIPPED | PASS | SKIPPED |
+--------------------------+----------------+------------------------------+--------------+---------------------------+
CentOS Stream 9 (ARM)
Kernel: Container Host Kernel
Compiler: gcc 11.3.1
Debian 11 (Buster) (ARM)
Kernel: Container Host Kernel
Compiler: gcc 10.2.1
Fedora 37 (ARM)
Kernel: Depends on container host
Compiler: gcc 12.3.1
Fedora 38 (ARM)
Kernel: Depends on container host
Compiler: gcc 13.1.1
Ubuntu 20.04 (ARM)
Kernel: Container Host Kernel
Compiler: gcc 9.4.0
Debian 11 (arm)
Kernel: Container Host Kernel
Compiler: gcc 10.2.1
Ubuntu 20.04 ARM SVE
Kernel: 5.4.0-80-generic
Compiler: gcc 10.3.0 (Ubuntu 10.3.0-1ubuntu1~20.04)
To view detailed results, visit:
https://lab.dpdk.org/results/dashboard/patchsets/29216/
UNH-IOL DPDK Community Lab
To manage your email subscriptions, visit:
https://lab.dpdk.org/results/dashboard/preferences/subscriptions/
More information about the test-report
mailing list