|SUCCESS| [GIT MASTER] dee3c01a2297538d7b65048aedfb372464f89942

dpdklab at iol.unh.edu dpdklab at iol.unh.edu
Thu Feb 22 08:41:27 CET 2024


_Testing PASS_

Branch: dpdk-next-net

dee3c01a2297538d7b65048aedfb372464f89942 --> testing pass

Test environment and result as below:

+-----------------------+---------------------------+------------------------------+--------------+----------------+
|      Environment      | cryptodev_sw_zuc_autotest | cryptodev_sw_snow3g_autotest | lpm_autotest | dpdk_unit_test |
+=======================+===========================+==============================+==============+================+
| Debian 11 (arm)       | PASS                      | PASS                         | SKIPPED      | SKIPPED        |
+-----------------------+---------------------------+------------------------------+--------------+----------------+
| Ubuntu 20.04 ARM SVE  | SKIPPED                   | SKIPPED                      | PASS         | SKIPPED        |
+-----------------------+---------------------------+------------------------------+--------------+----------------+
| CentOS Stream 9 (ARM) | SKIPPED                   | SKIPPED                      | SKIPPED      | PASS           |
+-----------------------+---------------------------+------------------------------+--------------+----------------+


Debian 11 (arm)
	Kernel: Container Host Kernel
	Compiler: gcc 10.2.1

Ubuntu 20.04 ARM SVE
	Kernel: 5.4.0-80-generic
	Compiler: gcc 10.3.0 (Ubuntu 10.3.0-1ubuntu1~20.04)

CentOS Stream 9 (ARM)
	Kernel: Container Host Kernel
	Compiler: gcc 11.3.1

To view detailed results, visit:
https://lab.dpdk.org/results/dashboard/tarballs/28095/

UNH-IOL DPDK Community Lab

To manage your email subscriptions, visit: 
https://lab.dpdk.org/results/dashboard/preferences/subscriptions/


More information about the test-report mailing list