|SUCCESS| pw137029-137031 [PATCH] [24.11,v3,5/5] node: add error sta

dpdklab at iol.unh.edu dpdklab at iol.unh.edu
Thu Feb 22 17:32:00 CET 2024


Test-Label: iol-unit-arm64-testing
Test-Status: SUCCESS
http://dpdk.org/patch/137031

_Testing PASS_

Submitter: Pavan Nikhilesh Bhagavatula <pbhagavatula at marvell.com>
Date: Thursday, February 22 2024 12:23:42 
DPDK git baseline: Repo:dpdk
  Branch: master
  CommitID:92c0ad70caf3ed6f4b93de6ddaf7bc369737c049

137029-137031 --> testing pass

Test environment and result as below:

+-----------------------+--------------+----------------+
|      Environment      | lpm_autotest | dpdk_unit_test |
+=======================+==============+================+
| Ubuntu 20.04 ARM SVE  | PASS         | SKIPPED        |
+-----------------------+--------------+----------------+
| Fedora 37 (ARM)       | SKIPPED      | PASS           |
+-----------------------+--------------+----------------+
| CentOS Stream 9 (ARM) | SKIPPED      | PASS           |
+-----------------------+--------------+----------------+


Ubuntu 20.04 ARM SVE
	Kernel: 5.4.0-80-generic
	Compiler: gcc 10.3.0 (Ubuntu 10.3.0-1ubuntu1~20.04)

Fedora 37 (ARM)
	Kernel: Depends on container host
	Compiler: gcc 12.3.1

CentOS Stream 9 (ARM)
	Kernel: Container Host Kernel
	Compiler: gcc 11.3.1

To view detailed results, visit:
https://lab.dpdk.org/results/dashboard/patchsets/29223/

UNH-IOL DPDK Community Lab

To manage your email subscriptions, visit: 
https://lab.dpdk.org/results/dashboard/preferences/subscriptions/


More information about the test-report mailing list