|SUCCESS| pw137036 [PATCH] [v2] net/af_xdp: fix resources leak when
dpdklab at iol.unh.edu
dpdklab at iol.unh.edu
Thu Feb 22 18:12:37 CET 2024
Test-Label: iol-unit-arm64-testing
Test-Status: SUCCESS
http://dpdk.org/patch/137036
_Testing PASS_
Submitter: Yunjian Wang <wangyunjian at huawei.com>
Date: Thursday, February 22 2024 13:35:39
DPDK git baseline: Repo:dpdk
Branch: master
CommitID:dee3c01a2297538d7b65048aedfb372464f89942
137036 --> testing pass
Test environment and result as below:
+--------------------------+--------------+----------------+
| Environment | lpm_autotest | dpdk_unit_test |
+==========================+==============+================+
| Ubuntu 20.04 ARM SVE | PASS | SKIPPED |
+--------------------------+--------------+----------------+
| Debian 11 (Buster) (ARM) | SKIPPED | PASS |
+--------------------------+--------------+----------------+
| CentOS Stream 9 (ARM) | SKIPPED | PASS |
+--------------------------+--------------+----------------+
| Fedora 37 (ARM) | SKIPPED | PASS |
+--------------------------+--------------+----------------+
Ubuntu 20.04 ARM SVE
Kernel: 5.4.0-80-generic
Compiler: gcc 10.3.0 (Ubuntu 10.3.0-1ubuntu1~20.04)
Debian 11 (Buster) (ARM)
Kernel: Container Host Kernel
Compiler: gcc 10.2.1
CentOS Stream 9 (ARM)
Kernel: Container Host Kernel
Compiler: gcc 11.3.1
Fedora 37 (ARM)
Kernel: Depends on container host
Compiler: gcc 12.3.1
To view detailed results, visit:
https://lab.dpdk.org/results/dashboard/patchsets/29225/
UNH-IOL DPDK Community Lab
To manage your email subscriptions, visit:
https://lab.dpdk.org/results/dashboard/preferences/subscriptions/
More information about the test-report
mailing list