|SUCCESS| [GIT MASTER] 850a57695b4647f62f31019baa8a92bcd3ff3531
dpdklab at iol.unh.edu
dpdklab at iol.unh.edu
Fri Feb 23 19:00:50 CET 2024
_Testing PASS_
Branch: dpdk-next-eventdev
850a57695b4647f62f31019baa8a92bcd3ff3531 --> testing pass
Test environment and result as below:
+--------------------------+----------------+--------------+
| Environment | dpdk_unit_test | lpm_autotest |
+==========================+================+==============+
| Debian 11 (Buster) (ARM) | PASS | SKIPPED |
+--------------------------+----------------+--------------+
| Fedora 37 (ARM) | PASS | SKIPPED |
+--------------------------+----------------+--------------+
| Fedora 38 (ARM) | PASS | SKIPPED |
+--------------------------+----------------+--------------+
| Ubuntu 20.04 ARM SVE | SKIPPED | PASS |
+--------------------------+----------------+--------------+
Debian 11 (Buster) (ARM)
Kernel: Container Host Kernel
Compiler: gcc 10.2.1
Fedora 37 (ARM)
Kernel: Depends on container host
Compiler: gcc 12.3.1
Fedora 38 (ARM)
Kernel: Depends on container host
Compiler: gcc 13.1.1
Ubuntu 20.04 ARM SVE
Kernel: 5.4.0-80-generic
Compiler: gcc 10.3.0 (Ubuntu 10.3.0-1ubuntu1~20.04)
To view detailed results, visit:
https://lab.dpdk.org/results/dashboard/tarballs/28109/
UNH-IOL DPDK Community Lab
To manage your email subscriptions, visit:
https://lab.dpdk.org/results/dashboard/preferences/subscriptions/
More information about the test-report
mailing list