|SUCCESS| pw137104-137107 [PATCH] [v2,4/4] common/qat: add gen5 devi
dpdklab at iol.unh.edu
dpdklab at iol.unh.edu
Fri Feb 23 23:32:33 CET 2024
Test-Label: iol-compile-amd64-testing
Test-Status: SUCCESS
http://dpdk.org/patch/137107
_Testing PASS_
Submitter: Power, Ciara <ciara.power at intel.com>
Date: Friday, February 23 2024 15:12:55
DPDK git baseline: Repo:dpdk
Branch: master
CommitID:92c0ad70caf3ed6f4b93de6ddaf7bc369737c049
137104-137107 --> testing pass
Test environment and result as below:
+---------------------+--------------------+----------------------+
| Environment | dpdk_meson_compile | dpdk_mingw64_compile |
+=====================+====================+======================+
| FreeBSD 13.2 | PASS | SKIPPED |
+---------------------+--------------------+----------------------+
| Windows Server 2022 | PASS | SKIPPED |
+---------------------+--------------------+----------------------+
| Windows Server 2019 | PASS | PASS |
+---------------------+--------------------+----------------------+
FreeBSD 13.2
Kernel: 13.2
Compiler: clang 11.3.0
Windows Server 2022
Kernel: OS Build 20348.2031
Compiler: MSVC VS-Preview
Windows Server 2019
Kernel: 10.0
Compiler: clang 14.0 and gcc 8.1.0 (MinGW)
To view detailed results, visit:
https://lab.dpdk.org/results/dashboard/patchsets/29246/
UNH-IOL DPDK Community Lab
To manage your email subscriptions, visit:
https://lab.dpdk.org/results/dashboard/preferences/subscriptions/
More information about the test-report
mailing list