|SUCCESS| pw137079-137080 [PATCH] [v2,2/2] net/mlx5: fix modify flex

dpdklab at iol.unh.edu dpdklab at iol.unh.edu
Sat Feb 24 06:16:15 CET 2024


Test-Label: iol-unit-arm64-testing
Test-Status: SUCCESS
http://dpdk.org/patch/137080

_Testing PASS_

Submitter: Rongwei Liu <rongweil at nvidia.com>
Date: Friday, February 23 2024 03:21:55 
DPDK git baseline: Repo:dpdk
  Branch: master
  CommitID:8c261a499faa28088489a141238f918be00807bb

137079-137080 --> testing pass

Test environment and result as below:

+--------------------------+----------------+---------------------------+--------------+------------------------------+
|       Environment        | dpdk_unit_test | cryptodev_sw_zuc_autotest | lpm_autotest | cryptodev_sw_snow3g_autotest |
+==========================+================+===========================+==============+==============================+
| CentOS Stream 9 (ARM)    | PASS           | SKIPPED                   | SKIPPED      | SKIPPED                      |
+--------------------------+----------------+---------------------------+--------------+------------------------------+
| Debian 11 (Buster) (ARM) | PASS           | SKIPPED                   | SKIPPED      | SKIPPED                      |
+--------------------------+----------------+---------------------------+--------------+------------------------------+
| Fedora 37 (ARM)          | PASS           | SKIPPED                   | SKIPPED      | SKIPPED                      |
+--------------------------+----------------+---------------------------+--------------+------------------------------+
| Fedora 38 (ARM)          | PASS           | SKIPPED                   | SKIPPED      | SKIPPED                      |
+--------------------------+----------------+---------------------------+--------------+------------------------------+
| Ubuntu 20.04 (ARM)       | PASS           | SKIPPED                   | SKIPPED      | SKIPPED                      |
+--------------------------+----------------+---------------------------+--------------+------------------------------+
| Debian 11 (arm)          | SKIPPED        | PASS                      | SKIPPED      | PASS                         |
+--------------------------+----------------+---------------------------+--------------+------------------------------+
| Ubuntu 20.04 ARM SVE     | SKIPPED        | SKIPPED                   | PASS         | SKIPPED                      |
+--------------------------+----------------+---------------------------+--------------+------------------------------+


CentOS Stream 9 (ARM)
	Kernel: Container Host Kernel
	Compiler: gcc 11.3.1

Debian 11 (Buster) (ARM)
	Kernel: Container Host Kernel
	Compiler: gcc 10.2.1

Fedora 37 (ARM)
	Kernel: Depends on container host
	Compiler: gcc 12.3.1

Fedora 38 (ARM)
	Kernel: Depends on container host
	Compiler: gcc 13.1.1

Ubuntu 20.04 (ARM)
	Kernel: Container Host Kernel
	Compiler: gcc 9.4.0

Debian 11 (arm)
	Kernel: Container Host Kernel
	Compiler: gcc 10.2.1

Ubuntu 20.04 ARM SVE
	Kernel: 5.4.0-80-generic
	Compiler: gcc 10.3.0 (Ubuntu 10.3.0-1ubuntu1~20.04)

To view detailed results, visit:
https://lab.dpdk.org/results/dashboard/patchsets/29234/

UNH-IOL DPDK Community Lab

To manage your email subscriptions, visit: 
https://lab.dpdk.org/results/dashboard/preferences/subscriptions/


More information about the test-report mailing list