|SUCCESS| pw137039 [PATCH] doc: fix some typos in cryptodev overview

dpdklab at iol.unh.edu dpdklab at iol.unh.edu
Sat Feb 24 07:04:41 CET 2024


Test-Label: iol-abi-testing
Test-Status: SUCCESS
http://dpdk.org/patch/137039

_Testing PASS_

Submitter: Andrew Boyer <Andrew.Boyer at amd.com>
Date: Thursday, February 22 2024 17:41:11 
DPDK git baseline: Repo:dpdk
  Branch: master
  CommitID:92c0ad70caf3ed6f4b93de6ddaf7bc369737c049

137039 --> testing pass

Test environment and result as below:

+---------------+----------+
|  Environment  | abi_test |
+===============+==========+
| Debian Buster | PASS     |
+---------------+----------+
| Fedora 38     | PASS     |
+---------------+----------+
| RHEL8         | PASS     |
+---------------+----------+


Debian Buster
	Kernel: 5.4.0-122-generic
	Compiler: gcc 8.3.0-6

Fedora 38
	Kernel: Depends on container host
	Compiler: gcc 13.1.1

RHEL8
	Kernel: 4.18.0-240.10.1.el8_3.x86_64
	Compiler: gcc 8.3.1 20191121 (Red Hat 8.3.1-5)

To view detailed results, visit:
https://lab.dpdk.org/results/dashboard/patchsets/29227/

UNH-IOL DPDK Community Lab

To manage your email subscriptions, visit: 
https://lab.dpdk.org/results/dashboard/preferences/subscriptions/


More information about the test-report mailing list