|SUCCESS| [GIT MASTER] caf0f5d395d99f48550aa345e7c920fba34a42a2

dpdklab at iol.unh.edu dpdklab at iol.unh.edu
Sun Feb 25 06:33:37 CET 2024


_Testing PASS_

Branch: tags/v22.11

caf0f5d395d99f48550aa345e7c920fba34a42a2 --> testing pass

Test environment and result as below:

+-----------------+--------------------+
|   Environment   | dpdk_meson_compile |
+=================+====================+
| FreeBSD 13.2    | PASS               |
+-----------------+--------------------+
| CentOS Stream 8 | PASS               |
+-----------------+--------------------+
| CentOS Stream 9 | PASS               |
+-----------------+--------------------+
| Debian Bullseye | PASS               |
+-----------------+--------------------+
| Fedora 37       | PASS               |
+-----------------+--------------------+


FreeBSD 13.2
	Kernel: 13.2
	Compiler: clang 11.3.0

CentOS Stream 8
	Kernel: 4.18.0-240.10.1.el8_3.x86_64
	Compiler: gcc 8.4.1 20200928

CentOS Stream 9
	Kernel: 4.18.0-240.10.1.el8_3.x86_64
	Compiler: gcc 11.3.1 20220421

Debian Bullseye
	Kernel: 5.4.0-122-generic
	Compiler: gcc 10.2.1-6

Fedora 37
	Kernel: Depends on container host system
	Compiler: gcc 12.3.1

To view detailed results, visit:
https://lab.dpdk.org/results/dashboard/tarballs/28133/

UNH-IOL DPDK Community Lab

To manage your email subscriptions, visit: 
https://lab.dpdk.org/results/dashboard/preferences/subscriptions/


More information about the test-report mailing list