|SUCCESS| pw137192 [PATCH] [v1] app/test: fix segfault in Tx adapter

dpdklab at iol.unh.edu dpdklab at iol.unh.edu
Mon Feb 26 11:32:57 CET 2024


Test-Label: iol-unit-arm64-testing
Test-Status: SUCCESS
http://dpdk.org/patch/137192

_Testing PASS_

Submitter: Ganapati Kundapura <ganapati.kundapura at intel.com>
Date: Monday, February 26 2024 08:30:03 
DPDK git baseline: Repo:dpdk
  Branch: master
  CommitID:850a57695b4647f62f31019baa8a92bcd3ff3531

137192 --> testing pass

Test environment and result as below:

+-----------------------+----------------+
|      Environment      | dpdk_unit_test |
+=======================+================+
| CentOS Stream 9 (ARM) | PASS           |
+-----------------------+----------------+
| Fedora 37 (ARM)       | PASS           |
+-----------------------+----------------+
| Fedora 38 (ARM)       | PASS           |
+-----------------------+----------------+


CentOS Stream 9 (ARM)
	Kernel: Container Host Kernel
	Compiler: gcc 11.3.1

Fedora 37 (ARM)
	Kernel: Depends on container host
	Compiler: gcc 12.3.1

Fedora 38 (ARM)
	Kernel: Depends on container host
	Compiler: gcc 13.1.1

To view detailed results, visit:
https://lab.dpdk.org/results/dashboard/patchsets/29256/

UNH-IOL DPDK Community Lab

To manage your email subscriptions, visit: 
https://lab.dpdk.org/results/dashboard/preferences/subscriptions/


More information about the test-report mailing list