|SUCCESS| pw137194-137196 [PATCH] [v3,3/3] event/cnxk: support DMA e
dpdklab at iol.unh.edu
dpdklab at iol.unh.edu
Mon Feb 26 12:47:14 CET 2024
Test-Label: iol-compile-amd64-testing
Test-Status: SUCCESS
http://dpdk.org/patch/137196
_Testing PASS_
Submitter: Amit Prakash Shukla <amitprakashs at marvell.com>
Date: Monday, February 26 2024 09:43:33
DPDK git baseline: Repo:dpdk
Branch: master
CommitID:92c0ad70caf3ed6f4b93de6ddaf7bc369737c049
137194-137196 --> testing pass
Test environment and result as below:
+---------------------+--------------------+----------------------+
| Environment | dpdk_meson_compile | dpdk_mingw64_compile |
+=====================+====================+======================+
| Windows Server 2022 | PASS | SKIPPED |
+---------------------+--------------------+----------------------+
| FreeBSD 13.2 | PASS | SKIPPED |
+---------------------+--------------------+----------------------+
| Windows Server 2019 | PASS | PASS |
+---------------------+--------------------+----------------------+
| Debian Buster | PASS | SKIPPED |
+---------------------+--------------------+----------------------+
| Fedora 37 | PASS | SKIPPED |
+---------------------+--------------------+----------------------+
Windows Server 2022
Kernel: OS Build 20348.2031
Compiler: MSVC VS-Preview
FreeBSD 13.2
Kernel: 13.2
Compiler: clang 11.3.0
Windows Server 2019
Kernel: 10.0
Compiler: clang 14.0 and gcc 8.1.0 (MinGW)
Debian Buster
Kernel: 5.4.0-122-generic
Compiler: gcc 8.3.0-6
Fedora 37
Kernel: Depends on container host system
Compiler: gcc 12.3.1
To view detailed results, visit:
https://lab.dpdk.org/results/dashboard/patchsets/29258/
UNH-IOL DPDK Community Lab
To manage your email subscriptions, visit:
https://lab.dpdk.org/results/dashboard/preferences/subscriptions/
More information about the test-report
mailing list