|SUCCESS| pw137197 [PATCH] net/virtio-user: support IOVA as PA mode
dpdklab at iol.unh.edu
dpdklab at iol.unh.edu
Mon Feb 26 12:49:36 CET 2024
Test-Label: iol-unit-arm64-testing
Test-Status: SUCCESS
http://dpdk.org/patch/137197
_Testing PASS_
Submitter: Srujana Challa <schalla at marvell.com>
Date: Monday, February 26 2024 10:04:39
DPDK git baseline: Repo:dpdk
Branch: master
CommitID:2176806a4052a28bce70fe1767d8a56c6d7e904e
137197 --> testing pass
Test environment and result as below:
+--------------------------+----------------+------------------------------+
| Environment | dpdk_unit_test | cryptodev_sw_snow3g_autotest |
+==========================+================+==============================+
| CentOS Stream 9 (ARM) | PASS | SKIPPED |
+--------------------------+----------------+------------------------------+
| Debian 11 (Buster) (ARM) | PASS | SKIPPED |
+--------------------------+----------------+------------------------------+
| Fedora 37 (ARM) | PASS | SKIPPED |
+--------------------------+----------------+------------------------------+
| Fedora 38 (ARM) | PASS | SKIPPED |
+--------------------------+----------------+------------------------------+
| Fedora 38 (ARM Clang) | PASS | SKIPPED |
+--------------------------+----------------+------------------------------+
| Debian 11 (arm) | SKIPPED | PASS |
+--------------------------+----------------+------------------------------+
CentOS Stream 9 (ARM)
Kernel: Container Host Kernel
Compiler: gcc 11.3.1
Debian 11 (Buster) (ARM)
Kernel: Container Host Kernel
Compiler: gcc 10.2.1
Fedora 37 (ARM)
Kernel: Depends on container host
Compiler: gcc 12.3.1
Fedora 38 (ARM)
Kernel: Depends on container host
Compiler: gcc 13.1.1
Fedora 38 (ARM Clang)
Kernel: Depends on container host
Compiler: clang 16.0.3
Debian 11 (arm)
Kernel: Container Host Kernel
Compiler: gcc 10.2.1
To view detailed results, visit:
https://lab.dpdk.org/results/dashboard/patchsets/29259/
UNH-IOL DPDK Community Lab
To manage your email subscriptions, visit:
https://lab.dpdk.org/results/dashboard/preferences/subscriptions/
More information about the test-report
mailing list