|SUCCESS| pw137200 [PATCH] net/mlx5: link status change for bonding

dpdklab at iol.unh.edu dpdklab at iol.unh.edu
Mon Feb 26 15:34:13 CET 2024


Test-Label: iol-unit-arm64-testing
Test-Status: SUCCESS
http://dpdk.org/patch/137200

_Testing PASS_

Submitter: Haifei Luo <haifeil at nvidia.com>
Date: Monday, February 26 2024 12:03:41 
DPDK git baseline: Repo:dpdk
  Branch: master
  CommitID:260ed642fc7718d1a3058edef381f7aba06bbf44

137200 --> testing pass

Test environment and result as below:

+-----------------------+----------------+
|      Environment      | dpdk_unit_test |
+=======================+================+
| CentOS Stream 9 (ARM) | PASS           |
+-----------------------+----------------+
| Fedora 37 (ARM)       | PASS           |
+-----------------------+----------------+
| Fedora 38 (ARM)       | PASS           |
+-----------------------+----------------+


CentOS Stream 9 (ARM)
	Kernel: Container Host Kernel
	Compiler: gcc 11.3.1

Fedora 37 (ARM)
	Kernel: Depends on container host
	Compiler: gcc 12.3.1

Fedora 38 (ARM)
	Kernel: Depends on container host
	Compiler: gcc 13.1.1

To view detailed results, visit:
https://lab.dpdk.org/results/dashboard/patchsets/29262/

UNH-IOL DPDK Community Lab

To manage your email subscriptions, visit: 
https://lab.dpdk.org/results/dashboard/preferences/subscriptions/


More information about the test-report mailing list