|SUCCESS| pw137226-137232 [PATCH] [v3,7/7] net/mlx5: support modify

dpdklab at iol.unh.edu dpdklab at iol.unh.edu
Mon Feb 26 19:23:21 CET 2024


Test-Label: iol-abi-testing
Test-Status: SUCCESS
http://dpdk.org/patch/137232

_Testing PASS_

Submitter: Michael Baum <michaelba at nvidia.com>
Date: Monday, February 26 2024 13:45:56 
DPDK git baseline: Repo:dpdk
  Branch: master
  CommitID:812898e35f0d21c18d5fae3261873661258abd83

137226-137232 --> testing pass

Test environment and result as below:

+-----------------+----------+
|   Environment   | abi_test |
+=================+==========+
| CentOS Stream 9 | PASS     |
+-----------------+----------+
| Debian Buster   | PASS     |
+-----------------+----------+
| CentOS Stream 8 | PASS     |
+-----------------+----------+


CentOS Stream 9
	Kernel: 4.18.0-240.10.1.el8_3.x86_64
	Compiler: gcc 11.3.1 20220421

Debian Buster
	Kernel: 5.4.0-122-generic
	Compiler: gcc 8.3.0-6

CentOS Stream 8
	Kernel: 4.18.0-240.10.1.el8_3.x86_64
	Compiler: gcc 8.4.1 20200928

To view detailed results, visit:
https://lab.dpdk.org/results/dashboard/patchsets/29268/

UNH-IOL DPDK Community Lab

To manage your email subscriptions, visit: 
https://lab.dpdk.org/results/dashboard/preferences/subscriptions/


More information about the test-report mailing list