|SUCCESS| pw137212-137225 [PATCH] [v5,14/14] net/cnxk: fix mbuf fiel
dpdklab at iol.unh.edu
dpdklab at iol.unh.edu
Mon Feb 26 20:35:09 CET 2024
Test-Label: iol-unit-arm64-testing
Test-Status: SUCCESS
http://dpdk.org/patch/137225
_Testing PASS_
Submitter: Nithin Dabilpuram <ndabilpuram at marvell.com>
Date: Monday, February 26 2024 13:35:36
DPDK git baseline: Repo:dpdk
Branch: master
CommitID:ab5b7cd5a0b563e6d49be6c8beaad1f39c581a5c
137212-137225 --> testing pass
Test environment and result as below:
+--------------------------+----------------+
| Environment | dpdk_unit_test |
+==========================+================+
| Debian 11 (Buster) (ARM) | PASS |
+--------------------------+----------------+
| CentOS Stream 9 (ARM) | PASS |
+--------------------------+----------------+
| Fedora 38 (ARM) | PASS |
+--------------------------+----------------+
| Debian 12 (arm) | PASS |
+--------------------------+----------------+
Debian 11 (Buster) (ARM)
Kernel: Container Host Kernel
Compiler: gcc 10.2.1
CentOS Stream 9 (ARM)
Kernel: Container Host Kernel
Compiler: gcc 11.3.1
Fedora 38 (ARM)
Kernel: Depends on container host
Compiler: gcc 13.1.1
Debian 12 (arm)
Kernel: Container Host Kernel
Compiler: gcc 11
To view detailed results, visit:
https://lab.dpdk.org/results/dashboard/patchsets/29267/
UNH-IOL DPDK Community Lab
To manage your email subscriptions, visit:
https://lab.dpdk.org/results/dashboard/preferences/subscriptions/
More information about the test-report
mailing list