|SUCCESS| pw137277-137292 [PATCH] [v3,16/16] ip_frag: stop using var

dpdklab at iol.unh.edu dpdklab at iol.unh.edu
Mon Feb 26 23:21:39 CET 2024


Test-Label: iol-unit-arm64-testing
Test-Status: SUCCESS
http://dpdk.org/patch/137292

_Testing PASS_

Submitter: Tyler Retzlaff <roretzla at linux.microsoft.com>
Date: Monday, February 26 2024 20:19:46 
DPDK git baseline: Repo:dpdk
  Branch: master
  CommitID:92c0ad70caf3ed6f4b93de6ddaf7bc369737c049

137277-137292 --> testing pass

Test environment and result as below:

+----------------------+--------------+------------------------------+---------------------------+
|     Environment      | lpm_autotest | cryptodev_sw_snow3g_autotest | cryptodev_sw_zuc_autotest |
+======================+==============+==============================+===========================+
| Ubuntu 20.04 ARM SVE | PASS         | SKIPPED                      | SKIPPED                   |
+----------------------+--------------+------------------------------+---------------------------+
| Debian 12 (arm)      | SKIPPED      | PASS                         | PASS                      |
+----------------------+--------------+------------------------------+---------------------------+


Ubuntu 20.04 ARM SVE
	Kernel: 5.4.0-80-generic
	Compiler: gcc 10.3.0 (Ubuntu 10.3.0-1ubuntu1~20.04)

Debian 12 (arm)
	Kernel: Container Host Kernel
	Compiler: gcc 11

To view detailed results, visit:
https://lab.dpdk.org/results/dashboard/patchsets/29272/

UNH-IOL DPDK Community Lab

To manage your email subscriptions, visit: 
https://lab.dpdk.org/results/dashboard/preferences/subscriptions/


More information about the test-report mailing list