|SUCCESS| pw137318 [PATCH] net/virtio-user: support IOVA as PA mode

dpdklab at iol.unh.edu dpdklab at iol.unh.edu
Tue Feb 27 14:14:01 CET 2024


Test-Label: iol-unit-arm64-testing
Test-Status: SUCCESS
http://dpdk.org/patch/137318

_Testing PASS_

Submitter: Srujana Challa <schalla at marvell.com>
Date: Tuesday, February 27 2024 05:56:35 
DPDK git baseline: Repo:dpdk
  Branch: master
  CommitID:2176806a4052a28bce70fe1767d8a56c6d7e904e

137318 --> testing pass

Test environment and result as below:

+--------------------------+----------------+------------------------------+--------------+
|       Environment        | dpdk_unit_test | cryptodev_sw_snow3g_autotest | lpm_autotest |
+==========================+================+==============================+==============+
| Debian 11 (Buster) (ARM) | PASS           | SKIPPED                      | SKIPPED      |
+--------------------------+----------------+------------------------------+--------------+
| Fedora 37 (ARM)          | PASS           | SKIPPED                      | SKIPPED      |
+--------------------------+----------------+------------------------------+--------------+
| Fedora 38 (ARM)          | PASS           | SKIPPED                      | SKIPPED      |
+--------------------------+----------------+------------------------------+--------------+
| Ubuntu 20.04 (ARM)       | PASS           | SKIPPED                      | SKIPPED      |
+--------------------------+----------------+------------------------------+--------------+
| Debian 12 (arm)          | PASS           | PASS                         | SKIPPED      |
+--------------------------+----------------+------------------------------+--------------+
| Ubuntu 20.04 ARM SVE     | SKIPPED        | SKIPPED                      | PASS         |
+--------------------------+----------------+------------------------------+--------------+


Debian 11 (Buster) (ARM)
	Kernel: Container Host Kernel
	Compiler: gcc 10.2.1

Fedora 37 (ARM)
	Kernel: Depends on container host
	Compiler: gcc 12.3.1

Fedora 38 (ARM)
	Kernel: Depends on container host
	Compiler: gcc 13.1.1

Ubuntu 20.04 (ARM)
	Kernel: Container Host Kernel
	Compiler: gcc 9.4.0

Debian 12 (arm)
	Kernel: Container Host Kernel
	Compiler: gcc 11

Ubuntu 20.04 ARM SVE
	Kernel: 5.4.0-80-generic
	Compiler: gcc 10.3.0 (Ubuntu 10.3.0-1ubuntu1~20.04)

To view detailed results, visit:
https://lab.dpdk.org/results/dashboard/patchsets/29275/

UNH-IOL DPDK Community Lab

To manage your email subscriptions, visit: 
https://lab.dpdk.org/results/dashboard/preferences/subscriptions/


More information about the test-report mailing list