|SUCCESS| pw137321-137324 [PATCH] [v4,4/4] hash: add SVE support for

dpdklab at iol.unh.edu dpdklab at iol.unh.edu
Tue Feb 27 15:50:09 CET 2024


Test-Label: iol-unit-arm64-testing
Test-Status: SUCCESS
http://dpdk.org/patch/137324

_Testing PASS_

Submitter: Yoan Picchi <yoan.picchi at arm.com>
Date: Friday, February 23 2024 13:27:01 
DPDK git baseline: Repo:dpdk
  Branch: master
  CommitID:92c0ad70caf3ed6f4b93de6ddaf7bc369737c049

137321-137324 --> testing pass

Test environment and result as below:

+--------------------------+---------------------------+----------------+
|       Environment        | cryptodev_sw_zuc_autotest | dpdk_unit_test |
+==========================+===========================+================+
| Debian 12 (arm)          | PASS                      | PASS           |
+--------------------------+---------------------------+----------------+
| CentOS Stream 9 (ARM)    | SKIPPED                   | PASS           |
+--------------------------+---------------------------+----------------+
| Debian 11 (Buster) (ARM) | SKIPPED                   | PASS           |
+--------------------------+---------------------------+----------------+
| Fedora 38 (ARM)          | SKIPPED                   | PASS           |
+--------------------------+---------------------------+----------------+
| Fedora 37 (ARM)          | SKIPPED                   | PASS           |
+--------------------------+---------------------------+----------------+
| Ubuntu 20.04 (ARM)       | SKIPPED                   | PASS           |
+--------------------------+---------------------------+----------------+
| Fedora 38 (ARM Clang)    | SKIPPED                   | PASS           |
+--------------------------+---------------------------+----------------+


Debian 12 (arm)
	Kernel: Container Host Kernel
	Compiler: gcc 11

CentOS Stream 9 (ARM)
	Kernel: Container Host Kernel
	Compiler: gcc 11.3.1

Debian 11 (Buster) (ARM)
	Kernel: Container Host Kernel
	Compiler: gcc 10.2.1

Fedora 38 (ARM)
	Kernel: Depends on container host
	Compiler: gcc 13.1.1

Fedora 37 (ARM)
	Kernel: Depends on container host
	Compiler: gcc 12.3.1

Ubuntu 20.04 (ARM)
	Kernel: Container Host Kernel
	Compiler: gcc 9.4.0

Fedora 38 (ARM Clang)
	Kernel: Depends on container host
	Compiler: clang 16.0.3

To view detailed results, visit:
https://lab.dpdk.org/results/dashboard/patchsets/29277/

UNH-IOL DPDK Community Lab

To manage your email subscriptions, visit: 
https://lab.dpdk.org/results/dashboard/preferences/subscriptions/


More information about the test-report mailing list