|SUCCESS| pw137319 [PATCH] [v2] build: make buffer headroom configur
dpdklab at iol.unh.edu
dpdklab at iol.unh.edu
Tue Feb 27 15:55:28 CET 2024
Test-Label: iol-compile-amd64-testing
Test-Status: SUCCESS
http://dpdk.org/patch/137319
_Testing PASS_
Submitter: Parthakumar Roy <partha.roy.tx at gmail.com>
Date: Tuesday, February 20 2024 14:57:35
DPDK git baseline: Repo:dpdk
Branch: master
CommitID:92c0ad70caf3ed6f4b93de6ddaf7bc369737c049
137319 --> testing pass
Test environment and result as below:
+---------------------+--------------------+
| Environment | dpdk_meson_compile |
+=====================+====================+
| Windows Server 2022 | PASS |
+---------------------+--------------------+
| FreeBSD 13.2 | PASS |
+---------------------+--------------------+
| Windows Server 2019 | PASS |
+---------------------+--------------------+
Windows Server 2022
Kernel: OS Build 20348.2031
Compiler: MSVC VS-Preview
FreeBSD 13.2
Kernel: 13.2
Compiler: clang 11.3.0
Windows Server 2019
Kernel: 10.0
Compiler: clang 14.0 and gcc 8.1.0 (MinGW)
To view detailed results, visit:
https://lab.dpdk.org/results/dashboard/patchsets/29276/
UNH-IOL DPDK Community Lab
To manage your email subscriptions, visit:
https://lab.dpdk.org/results/dashboard/preferences/subscriptions/
More information about the test-report
mailing list