|SUCCESS| pw137358 [PATCH] net/mlx5: fix the HWS registers initializ
    dpdklab at iol.unh.edu 
    dpdklab at iol.unh.edu
       
    Wed Feb 28 01:32:32 CET 2024
    
    
  
Test-Label: iol-compile-amd64-testing
Test-Status: SUCCESS
http://dpdk.org/patch/137358
_Testing PASS_
Submitter: Bing Zhao <bingz at nvidia.com>
Date: Tuesday, February 27 2024 15:26:27 
DPDK git baseline: Repo:dpdk
  Branch: master
  CommitID:fdcd099fbaa513409ea4185b2362d9d6623cf26e
137358 --> testing pass
Test environment and result as below:
+---------------------+--------------------+----------------------+
|     Environment     | dpdk_meson_compile | dpdk_mingw64_compile |
+=====================+====================+======================+
| FreeBSD 13.2        | PASS               | SKIPPED              |
+---------------------+--------------------+----------------------+
| Debian Bullseye     | PASS               | SKIPPED              |
+---------------------+--------------------+----------------------+
| CentOS Stream 9     | PASS               | SKIPPED              |
+---------------------+--------------------+----------------------+
| Debian 12 (arm)     | PASS               | SKIPPED              |
+---------------------+--------------------+----------------------+
| Fedora 38           | PASS               | SKIPPED              |
+---------------------+--------------------+----------------------+
| CentOS Stream 8     | PASS               | SKIPPED              |
+---------------------+--------------------+----------------------+
| Ubuntu 20.04        | PASS               | SKIPPED              |
+---------------------+--------------------+----------------------+
| openSUSE Leap 15    | PASS               | SKIPPED              |
+---------------------+--------------------+----------------------+
| Alpine              | PASS               | SKIPPED              |
+---------------------+--------------------+----------------------+
| Fedora 37           | PASS               | SKIPPED              |
+---------------------+--------------------+----------------------+
| Ubuntu 22.04        | PASS               | SKIPPED              |
+---------------------+--------------------+----------------------+
| RHEL8               | PASS               | SKIPPED              |
+---------------------+--------------------+----------------------+
| Windows Server 2019 | PASS               | PASS                 |
+---------------------+--------------------+----------------------+
FreeBSD 13.2
	Kernel: 13.2
	Compiler: clang 11.3.0
Debian Bullseye
	Kernel: 5.4.0-122-generic
	Compiler: gcc 10.2.1-6
CentOS Stream 9
	Kernel: 4.18.0-240.10.1.el8_3.x86_64
	Compiler: gcc 11.3.1 20220421
Debian 12 (arm)
	Kernel: Container Host Kernel
	Compiler: gcc 11
Fedora 38
	Kernel: Depends on container host
	Compiler: gcc 13.1.1
CentOS Stream 8
	Kernel: 4.18.0-240.10.1.el8_3.x86_64
	Compiler: gcc 8.4.1 20200928
Ubuntu 20.04
	Kernel: 5.4.0-153-generic
	Compiler: gcc 9.4.0-1ubuntu1~20.04.1
openSUSE Leap 15
	Kernel: 4.18.0-240.10.1.el8_3.x86_64
	Compiler: gcc 7.5.0
Alpine
	Kernel: 5.4.0-73-generic
	Compiler: gcc (Alpine 10.3.1_git20210424) 10.3.1 20210424
Fedora 37
	Kernel: Depends on container host system
	Compiler: gcc 12.3.1
Ubuntu 22.04
	Kernel: 4.18.0-240.10.1.el8_3.x86_64
	Compiler: gcc 11.3.0
RHEL8
	Kernel: 4.18.0-240.10.1.el8_3.x86_64
	Compiler: gcc 8.3.1 20191121 (Red Hat 8.3.1-5)
Windows Server 2019
	Kernel: 10.0
	Compiler: clang 14.0 and gcc 8.1.0 (MinGW)
To view detailed results, visit:
https://lab.dpdk.org/results/dashboard/patchsets/29293/
UNH-IOL DPDK Community Lab
To manage your email subscriptions, visit: 
https://lab.dpdk.org/results/dashboard/preferences/subscriptions/
    
    
More information about the test-report
mailing list