|SUCCESS| pw137401-137403 [PATCH] [3/3] rcu: use rte macro instead o

dpdklab at iol.unh.edu dpdklab at iol.unh.edu
Wed Feb 28 04:12:27 CET 2024


Test-Label: iol-unit-arm64-testing
Test-Status: SUCCESS
http://dpdk.org/patch/137403

_Testing PASS_

Submitter: Tyler Retzlaff <roretzla at linux.microsoft.com>
Date: Tuesday, February 27 2024 23:07:53 
DPDK git baseline: Repo:dpdk
  Branch: master
  CommitID:92c0ad70caf3ed6f4b93de6ddaf7bc369737c049

137401-137403 --> testing pass

Test environment and result as below:

+-----------------------+---------------------------+------------------------------+----------------+--------------+
|      Environment      | cryptodev_sw_zuc_autotest | cryptodev_sw_snow3g_autotest | dpdk_unit_test | lpm_autotest |
+=======================+===========================+==============================+================+==============+
| Debian 12 (arm)       | PASS                      | PASS                         | PASS           | SKIPPED      |
+-----------------------+---------------------------+------------------------------+----------------+--------------+
| CentOS Stream 9 (ARM) | SKIPPED                   | SKIPPED                      | PASS           | SKIPPED      |
+-----------------------+---------------------------+------------------------------+----------------+--------------+
| Fedora 37 (ARM)       | SKIPPED                   | SKIPPED                      | PASS           | SKIPPED      |
+-----------------------+---------------------------+------------------------------+----------------+--------------+
| Ubuntu 20.04 ARM SVE  | SKIPPED                   | SKIPPED                      | SKIPPED        | PASS         |
+-----------------------+---------------------------+------------------------------+----------------+--------------+


Debian 12 (arm)
	Kernel: Container Host Kernel
	Compiler: gcc 11

CentOS Stream 9 (ARM)
	Kernel: Container Host Kernel
	Compiler: gcc 11.3.1

Fedora 37 (ARM)
	Kernel: Depends on container host
	Compiler: gcc 12.3.1

Ubuntu 20.04 ARM SVE
	Kernel: 5.4.0-80-generic
	Compiler: gcc 10.3.0 (Ubuntu 10.3.0-1ubuntu1~20.04)

To view detailed results, visit:
https://lab.dpdk.org/results/dashboard/patchsets/29305/

UNH-IOL DPDK Community Lab

To manage your email subscriptions, visit: 
https://lab.dpdk.org/results/dashboard/preferences/subscriptions/


More information about the test-report mailing list