|SUCCESS| pw137374-137396 [PATCH] [v4,23/23] net/cnxk: other flow op
dpdklab at iol.unh.edu
dpdklab at iol.unh.edu
Wed Feb 28 07:48:52 CET 2024
Test-Label: iol-unit-arm64-testing
Test-Status: SUCCESS
http://dpdk.org/patch/137396
_Testing PASS_
Submitter: Harman Kalra <hkalra at marvell.com>
Date: Tuesday, February 27 2024 19:15:50
DPDK git baseline: Repo:dpdk
Branch: master
CommitID:ab5b7cd5a0b563e6d49be6c8beaad1f39c581a5c
137374-137396 --> testing pass
Test environment and result as below:
+--------------------------+--------------+----------------+
| Environment | lpm_autotest | dpdk_unit_test |
+==========================+==============+================+
| Ubuntu 20.04 ARM SVE | PASS | SKIPPED |
+--------------------------+--------------+----------------+
| CentOS Stream 9 (ARM) | SKIPPED | PASS |
+--------------------------+--------------+----------------+
| Debian 12 (arm) | SKIPPED | PASS |
+--------------------------+--------------+----------------+
| Debian 11 (Buster) (ARM) | SKIPPED | PASS |
+--------------------------+--------------+----------------+
| Fedora 37 (ARM) | SKIPPED | PASS |
+--------------------------+--------------+----------------+
| Fedora 38 (ARM Clang) | SKIPPED | PASS |
+--------------------------+--------------+----------------+
| Ubuntu 20.04 (ARM) | SKIPPED | PASS |
+--------------------------+--------------+----------------+
Ubuntu 20.04 ARM SVE
Kernel: 5.4.0-80-generic
Compiler: gcc 10.3.0 (Ubuntu 10.3.0-1ubuntu1~20.04)
CentOS Stream 9 (ARM)
Kernel: Container Host Kernel
Compiler: gcc 11.3.1
Debian 12 (arm)
Kernel: Container Host Kernel
Compiler: gcc 11
Debian 11 (Buster) (ARM)
Kernel: Container Host Kernel
Compiler: gcc 10.2.1
Fedora 37 (ARM)
Kernel: Depends on container host
Compiler: gcc 12.3.1
Fedora 38 (ARM Clang)
Kernel: Depends on container host
Compiler: clang 16.0.3
Ubuntu 20.04 (ARM)
Kernel: Container Host Kernel
Compiler: gcc 9.4.0
To view detailed results, visit:
https://lab.dpdk.org/results/dashboard/patchsets/29301/
UNH-IOL DPDK Community Lab
To manage your email subscriptions, visit:
https://lab.dpdk.org/results/dashboard/preferences/subscriptions/
More information about the test-report
mailing list