|SUCCESS| pw137373 [PATCH] [v2] lib/hash: add siphash
dpdklab at iol.unh.edu
dpdklab at iol.unh.edu
Wed Feb 28 08:08:52 CET 2024
Test-Label: iol-unit-arm64-testing
Test-Status: SUCCESS
http://dpdk.org/patch/137373
_Testing PASS_
Submitter: Stephen Hemminger <stephen at networkplumber.org>
Date: Tuesday, February 27 2024 19:14:38
DPDK git baseline: Repo:dpdk
Branch: master
CommitID:92c0ad70caf3ed6f4b93de6ddaf7bc369737c049
137373 --> testing pass
Test environment and result as below:
+-----------------------+--------------+----------------+
| Environment | lpm_autotest | dpdk_unit_test |
+=======================+==============+================+
| Ubuntu 20.04 ARM SVE | PASS | SKIPPED |
+-----------------------+--------------+----------------+
| CentOS Stream 9 (ARM) | SKIPPED | PASS |
+-----------------------+--------------+----------------+
| Debian 12 (arm) | SKIPPED | PASS |
+-----------------------+--------------+----------------+
Ubuntu 20.04 ARM SVE
Kernel: 5.4.0-80-generic
Compiler: gcc 10.3.0 (Ubuntu 10.3.0-1ubuntu1~20.04)
CentOS Stream 9 (ARM)
Kernel: Container Host Kernel
Compiler: gcc 11.3.1
Debian 12 (arm)
Kernel: Container Host Kernel
Compiler: gcc 11
To view detailed results, visit:
https://lab.dpdk.org/results/dashboard/patchsets/29300/
UNH-IOL DPDK Community Lab
To manage your email subscriptions, visit:
https://lab.dpdk.org/results/dashboard/preferences/subscriptions/
More information about the test-report
mailing list