|SUCCESS| pw137411 [PATCH] common/cnxk: fix Coverity issues
dpdklab at iol.unh.edu
dpdklab at iol.unh.edu
Wed Feb 28 12:12:31 CET 2024
Test-Label: iol-unit-arm64-testing
Test-Status: SUCCESS
http://dpdk.org/patch/137411
_Testing PASS_
Submitter: Satheesh Paul Antonysamy <psatheesh at marvell.com>
Date: Wednesday, February 28 2024 06:46:43
DPDK git baseline: Repo:dpdk
Branch: master
CommitID:ab5b7cd5a0b563e6d49be6c8beaad1f39c581a5c
137411 --> testing pass
Test environment and result as below:
+--------------------------+------------------------------+----------------+--------------+
| Environment | cryptodev_sw_snow3g_autotest | dpdk_unit_test | lpm_autotest |
+==========================+==============================+================+==============+
| Debian 12 (arm) | PASS | PASS | SKIPPED |
+--------------------------+------------------------------+----------------+--------------+
| Debian 11 (Buster) (ARM) | SKIPPED | PASS | SKIPPED |
+--------------------------+------------------------------+----------------+--------------+
| Ubuntu 20.04 ARM SVE | SKIPPED | SKIPPED | PASS |
+--------------------------+------------------------------+----------------+--------------+
Debian 12 (arm)
Kernel: Container Host Kernel
Compiler: gcc 11
Debian 11 (Buster) (ARM)
Kernel: Container Host Kernel
Compiler: gcc 10.2.1
Ubuntu 20.04 ARM SVE
Kernel: 5.4.0-80-generic
Compiler: gcc 10.3.0 (Ubuntu 10.3.0-1ubuntu1~20.04)
To view detailed results, visit:
https://lab.dpdk.org/results/dashboard/patchsets/29308/
UNH-IOL DPDK Community Lab
To manage your email subscriptions, visit:
https://lab.dpdk.org/results/dashboard/preferences/subscriptions/
More information about the test-report
mailing list