|SUCCESS| pw137425 [PATCH] [v1] eventdev/crypto: fix enqueueing inva

dpdklab at iol.unh.edu dpdklab at iol.unh.edu
Wed Feb 28 15:48:22 CET 2024


Test-Label: iol-unit-arm64-testing
Test-Status: SUCCESS
http://dpdk.org/patch/137425

_Testing PASS_

Submitter: Ganapati Kundapura <ganapati.kundapura at intel.com>
Date: Wednesday, February 28 2024 10:39:19 
DPDK git baseline: Repo:dpdk
  Branch: master
  CommitID:29cba188385e8c961bfb21690d0eda36f50277e1

137425 --> testing pass

Test environment and result as below:

+--------------------------+----------------+--------------+---------------------------+------------------------------+
|       Environment        | dpdk_unit_test | lpm_autotest | cryptodev_sw_zuc_autotest | cryptodev_sw_snow3g_autotest |
+==========================+================+==============+===========================+==============================+
| Debian 11 (Buster) (ARM) | PASS           | SKIPPED      | SKIPPED                   | SKIPPED                      |
+--------------------------+----------------+--------------+---------------------------+------------------------------+
| CentOS Stream 9 (ARM)    | PASS           | SKIPPED      | SKIPPED                   | SKIPPED                      |
+--------------------------+----------------+--------------+---------------------------+------------------------------+
| Debian 12 (arm)          | PASS           | SKIPPED      | PASS                      | PASS                         |
+--------------------------+----------------+--------------+---------------------------+------------------------------+
| Fedora 37 (ARM)          | PASS           | SKIPPED      | SKIPPED                   | SKIPPED                      |
+--------------------------+----------------+--------------+---------------------------+------------------------------+
| Fedora 38 (ARM)          | PASS           | SKIPPED      | SKIPPED                   | SKIPPED                      |
+--------------------------+----------------+--------------+---------------------------+------------------------------+
| Ubuntu 20.04 (ARM)       | PASS           | SKIPPED      | SKIPPED                   | SKIPPED                      |
+--------------------------+----------------+--------------+---------------------------+------------------------------+
| Ubuntu 20.04 ARM SVE     | SKIPPED        | PASS         | SKIPPED                   | SKIPPED                      |
+--------------------------+----------------+--------------+---------------------------+------------------------------+


Debian 11 (Buster) (ARM)
	Kernel: Container Host Kernel
	Compiler: gcc 10.2.1

CentOS Stream 9 (ARM)
	Kernel: Container Host Kernel
	Compiler: gcc 11.3.1

Debian 12 (arm)
	Kernel: Container Host Kernel
	Compiler: gcc 11

Fedora 37 (ARM)
	Kernel: Depends on container host
	Compiler: gcc 12.3.1

Fedora 38 (ARM)
	Kernel: Depends on container host
	Compiler: gcc 13.1.1

Ubuntu 20.04 (ARM)
	Kernel: Container Host Kernel
	Compiler: gcc 9.4.0

Ubuntu 20.04 ARM SVE
	Kernel: 5.4.0-80-generic
	Compiler: gcc 10.3.0 (Ubuntu 10.3.0-1ubuntu1~20.04)

To view detailed results, visit:
https://lab.dpdk.org/results/dashboard/patchsets/29314/

UNH-IOL DPDK Community Lab

To manage your email subscriptions, visit: 
https://lab.dpdk.org/results/dashboard/preferences/subscriptions/


More information about the test-report mailing list