|SUCCESS| pw137435-137439 [PATCH] [v4,5/5] net/mlx5: validate the ac

dpdklab at iol.unh.edu dpdklab at iol.unh.edu
Wed Feb 28 16:59:39 CET 2024


Test-Label: iol-abi-testing
Test-Status: SUCCESS
http://dpdk.org/patch/137439

_Testing PASS_

Submitter: Bing Zhao <bingz at nvidia.com>
Date: Wednesday, February 28 2024 15:09:13 
DPDK git baseline: Repo:dpdk
  Branch: master
  CommitID:f0cd4465b336362425eaae17fbaf7ac8f392da91

137435-137439 --> testing pass

Test environment and result as below:

+-----------------+----------+
|   Environment   | abi_test |
+=================+==========+
| Debian Bullseye | PASS     |
+-----------------+----------+
| CentOS Stream 8 | PASS     |
+-----------------+----------+
| RHEL8           | PASS     |
+-----------------+----------+


Debian Bullseye
	Kernel: 5.4.0-122-generic
	Compiler: gcc 10.2.1-6

CentOS Stream 8
	Kernel: 4.18.0-240.10.1.el8_3.x86_64
	Compiler: gcc 8.4.1 20200928

RHEL8
	Kernel: 4.18.0-240.10.1.el8_3.x86_64
	Compiler: gcc 8.3.1 20191121 (Red Hat 8.3.1-5)

To view detailed results, visit:
https://lab.dpdk.org/results/dashboard/patchsets/29318/

UNH-IOL DPDK Community Lab

To manage your email subscriptions, visit: 
https://lab.dpdk.org/results/dashboard/preferences/subscriptions/


More information about the test-report mailing list