|SUCCESS| pw137441-137448 [PATCH] [11/11] net/mlx5: remove unneeded

dpdklab at iol.unh.edu dpdklab at iol.unh.edu
Wed Feb 28 18:52:19 CET 2024


Test-Label: iol-abi-testing
Test-Status: SUCCESS
http://dpdk.org/patch/137448

_Testing PASS_

Submitter: Dariusz Sosnowski <dsosnowski at nvidia.com>
Date: Wednesday, February 28 2024 17:00:46 
DPDK git baseline: Repo:dpdk
  Branch: master
  CommitID:513a698fe1ddcb725d0ed6bca2cbc4b6fc7c8345

137441-137448 --> testing pass

Test environment and result as below:

+-----------------+----------+
|   Environment   | abi_test |
+=================+==========+
| RHEL8           | PASS     |
+-----------------+----------+
| Fedora 37       | PASS     |
+-----------------+----------+
| CentOS Stream 9 | PASS     |
+-----------------+----------+


RHEL8
	Kernel: 4.18.0-240.10.1.el8_3.x86_64
	Compiler: gcc 8.3.1 20191121 (Red Hat 8.3.1-5)

Fedora 37
	Kernel: Depends on container host system
	Compiler: gcc 12.3.1

CentOS Stream 9
	Kernel: 4.18.0-240.10.1.el8_3.x86_64
	Compiler: gcc 11.3.1 20220421

To view detailed results, visit:
https://lab.dpdk.org/results/dashboard/patchsets/29319/

UNH-IOL DPDK Community Lab

To manage your email subscriptions, visit: 
https://lab.dpdk.org/results/dashboard/preferences/subscriptions/


More information about the test-report mailing list