|SUCCESS| pw137463 [PATCH] net/mlx5: fix the counters map in bonding
dpdklab at iol.unh.edu
dpdklab at iol.unh.edu
Thu Feb 29 11:36:52 CET 2024
Test-Label: iol-unit-arm64-testing
Test-Status: SUCCESS
http://dpdk.org/patch/137463
_Testing PASS_
Submitter: Bing Zhao <bingz at nvidia.com>
Date: Thursday, February 29 2024 09:34:56
DPDK git baseline: Repo:dpdk
Branch: master
CommitID:513a698fe1ddcb725d0ed6bca2cbc4b6fc7c8345
137463 --> testing pass
Test environment and result as below:
+----------------------+---------------------------+------------------------------+--------------+----------------+
| Environment | cryptodev_sw_zuc_autotest | cryptodev_sw_snow3g_autotest | lpm_autotest | dpdk_unit_test |
+======================+===========================+==============================+==============+================+
| Debian 12 (arm) | PASS | PASS | SKIPPED | PASS |
+----------------------+---------------------------+------------------------------+--------------+----------------+
| Ubuntu 20.04 ARM SVE | SKIPPED | SKIPPED | PASS | SKIPPED |
+----------------------+---------------------------+------------------------------+--------------+----------------+
Debian 12 (arm)
Kernel: Container Host Kernel
Compiler: gcc 11
Ubuntu 20.04 ARM SVE
Kernel: 5.4.0-80-generic
Compiler: gcc 10.3.0 (Ubuntu 10.3.0-1ubuntu1~20.04)
To view detailed results, visit:
https://lab.dpdk.org/results/dashboard/patchsets/29327/
UNH-IOL DPDK Community Lab
To manage your email subscriptions, visit:
https://lab.dpdk.org/results/dashboard/preferences/subscriptions/
More information about the test-report
mailing list