|SUCCESS| pw136041-136044 [PATCH] [4/4] dts: log stderr with failed
dpdklab at iol.unh.edu
dpdklab at iol.unh.edu
Mon Jan 22 20:36:29 CET 2024
Test-Label: iol-unit-arm64-testing
Test-Status: SUCCESS
http://dpdk.org/patch/136044
_Testing PASS_
Submitter: Luca Vizzarro <luca.vizzarro at arm.com>
Date: Monday, January 22 2024 18:26:11
DPDK git baseline: Repo:dpdk
Branch: master
CommitID:f1631b98727d2294008c8924f24a21366a8d383e
136041-136044 --> testing pass
Test environment and result as below:
+--------------------------+---------------------------+----------------+------------------------------+--------------+
| Environment | cryptodev_sw_zuc_autotest | dpdk_unit_test | cryptodev_sw_snow3g_autotest | lpm_autotest |
+==========================+===========================+================+==============================+==============+
| Debian 11 (arm) | PASS | SKIPPED | PASS | SKIPPED |
+--------------------------+---------------------------+----------------+------------------------------+--------------+
| Fedora 37 (ARM) | SKIPPED | PASS | SKIPPED | SKIPPED |
+--------------------------+---------------------------+----------------+------------------------------+--------------+
| Debian 11 (Buster) (ARM) | SKIPPED | PASS | SKIPPED | SKIPPED |
+--------------------------+---------------------------+----------------+------------------------------+--------------+
| CentOS Stream 9 (ARM) | SKIPPED | PASS | SKIPPED | SKIPPED |
+--------------------------+---------------------------+----------------+------------------------------+--------------+
| Ubuntu 20.04 (ARM) | SKIPPED | PASS | SKIPPED | SKIPPED |
+--------------------------+---------------------------+----------------+------------------------------+--------------+
| Fedora 38 (ARM) | SKIPPED | PASS | SKIPPED | SKIPPED |
+--------------------------+---------------------------+----------------+------------------------------+--------------+
| Fedora 38 (ARM Clang) | SKIPPED | PASS | SKIPPED | SKIPPED |
+--------------------------+---------------------------+----------------+------------------------------+--------------+
| Ubuntu 20.04 ARM SVE | SKIPPED | SKIPPED | SKIPPED | PASS |
+--------------------------+---------------------------+----------------+------------------------------+--------------+
Debian 11 (arm)
Kernel: Container Host Kernel
Compiler: gcc 10.2.1
Fedora 37 (ARM)
Kernel: Depends on container host
Compiler: gcc 12.3.1
Debian 11 (Buster) (ARM)
Kernel: Container Host Kernel
Compiler: gcc 10.2.1
CentOS Stream 9 (ARM)
Kernel: Container Host Kernel
Compiler: gcc 11.3.1
Ubuntu 20.04 (ARM)
Kernel: Container Host Kernel
Compiler: gcc 9.4.0
Fedora 38 (ARM)
Kernel: Depends on container host
Compiler: gcc 13.1.1
Fedora 38 (ARM Clang)
Kernel: Depends on container host
Compiler: clang 16.0.3
Ubuntu 20.04 ARM SVE
Kernel: 5.4.0-80-generic
Compiler: gcc 10.3.0 (Ubuntu 10.3.0-1ubuntu1~20.04)
To view detailed results, visit:
https://lab.dpdk.org/results/dashboard/patchsets/28934/
UNH-IOL DPDK Community Lab
To manage your email subscriptions, visit:
https://lab.dpdk.org/results/dashboard/preferences/subscriptions/
More information about the test-report
mailing list