|SUCCESS| pw140510-140511 [PATCH] [v8,2/2] dts: Change hugepage 'amo
dpdklab at iol.unh.edu
dpdklab at iol.unh.edu
Sat Jun 1 02:23:38 CEST 2024
Test-Label: iol-unit-amd64-testing
Test-Status: SUCCESS
http://dpdk.org/patch/140511
_Testing PASS_
Submitter: Nicholas Pratte <npratte at iol.unh.edu>
Date: Thursday, May 30 2024 19:38:00
DPDK git baseline: Repo:dpdk
Branch: master
CommitID:76cef1af8bdaeaf67a5c4ca5df3f221df994dc46
140510-140511 --> testing pass
Test environment and result as below:
+-----------------+----------------+
| Environment | dpdk_unit_test |
+=================+================+
| CentOS Stream 8 | PASS |
+-----------------+----------------+
| CentOS Stream 9 | PASS |
+-----------------+----------------+
| Debian Bullseye | PASS |
+-----------------+----------------+
| Debian 12 | PASS |
+-----------------+----------------+
| Fedora 37 | PASS |
+-----------------+----------------+
| Fedora 38 | PASS |
+-----------------+----------------+
| RHEL8 | PASS |
+-----------------+----------------+
| Fedora 39 | PASS |
+-----------------+----------------+
CentOS Stream 8
Kernel: 5.4.0-167-generic
Compiler: gcc 8.5.0 20210514
CentOS Stream 9
Kernel: 5.4.0-167-generic
Compiler: gcc 11.4.1 20230605
Debian Bullseye
Kernel: 5.4.0-167-generic
Compiler: gcc 10.2.1-6
Debian 12
Kernel: Container Host Kernel
Compiler: gcc 10.2.1
Fedora 37
Kernel: Depends on container host system
Compiler: gcc 12.3.1
Fedora 38
Kernel: Depends on container host
Compiler: gcc 13.2.1
RHEL8
Kernel: 5.4.0-167-generic
Compiler: gcc 8.5.0 20210514 (Red Hat 8.5.0-20)
Fedora 39
Kernel: Depends on container host
Compiler: gcc 13.2.1
To view detailed results, visit:
https://lab.dpdk.org/results/dashboard/patchsets/30061/
UNH-IOL DPDK Community Lab
To manage your email subscriptions, visit:
https://lab.dpdk.org/results/dashboard/preferences/subscriptions/
More information about the test-report
mailing list