|SUCCESS| pw140489-140490 [PATCH] [v3,2/2] dts: clean up config type

dpdklab at iol.unh.edu dpdklab at iol.unh.edu
Sat Jun 1 03:42:30 CEST 2024


Test-Label: iol-compile-amd64-testing
Test-Status: SUCCESS
http://dpdk.org/patch/140490

_Testing PASS_

Submitter: Luca Vizzarro <luca.vizzarro at arm.com>
Date: Thursday, May 30 2024 15:19:51 
DPDK git baseline: Repo:dpdk
  Branch: master
  CommitID:76cef1af8bdaeaf67a5c4ca5df3f221df994dc46

140489-140490 --> testing pass

Test environment and result as below:

+---------------------+--------------------+-------------------+----------------------+------------------+
|     Environment     | dpdk_meson_compile | dpdk_msvc_compile | dpdk_mingw64_compile | dpdk_compile_ovs |
+=====================+====================+===================+======================+==================+
| FreeBSD 13.3        | PASS               | SKIPPED           | SKIPPED              | SKIPPED          |
+---------------------+--------------------+-------------------+----------------------+------------------+
| Windows Server 2019 | PASS               | SKIPPED           | PASS                 | SKIPPED          |
+---------------------+--------------------+-------------------+----------------------+------------------+
| FreeBSD 14.0        | PASS               | SKIPPED           | SKIPPED              | SKIPPED          |
+---------------------+--------------------+-------------------+----------------------+------------------+
| Windows Server 2022 | PASS               | PASS              | PASS                 | SKIPPED          |
+---------------------+--------------------+-------------------+----------------------+------------------+
| CentOS Stream 8     | PASS               | SKIPPED           | SKIPPED              | PASS             |
+---------------------+--------------------+-------------------+----------------------+------------------+
| CentOS Stream 9     | PASS               | SKIPPED           | SKIPPED              | PASS             |
+---------------------+--------------------+-------------------+----------------------+------------------+
| Debian 12           | PASS               | SKIPPED           | SKIPPED              | PASS             |
+---------------------+--------------------+-------------------+----------------------+------------------+
| Debian Bullseye     | PASS               | SKIPPED           | SKIPPED              | PASS             |
+---------------------+--------------------+-------------------+----------------------+------------------+
| Fedora 37           | PASS               | SKIPPED           | SKIPPED              | PASS             |
+---------------------+--------------------+-------------------+----------------------+------------------+
| Fedora 38           | PASS               | SKIPPED           | SKIPPED              | PASS             |
+---------------------+--------------------+-------------------+----------------------+------------------+
| openSUSE Leap 15    | PASS               | SKIPPED           | SKIPPED              | PASS             |
+---------------------+--------------------+-------------------+----------------------+------------------+
| Ubuntu 20.04        | PASS               | SKIPPED           | SKIPPED              | PASS             |
+---------------------+--------------------+-------------------+----------------------+------------------+
| Fedora 39           | PASS               | SKIPPED           | SKIPPED              | PASS             |
+---------------------+--------------------+-------------------+----------------------+------------------+
| Ubuntu 22.04        | PASS               | SKIPPED           | SKIPPED              | PASS             |
+---------------------+--------------------+-------------------+----------------------+------------------+
| RHEL8               | PASS               | SKIPPED           | SKIPPED              | PASS             |
+---------------------+--------------------+-------------------+----------------------+------------------+
| Ubuntu 24.04        | PASS               | SKIPPED           | SKIPPED              | PASS             |
+---------------------+--------------------+-------------------+----------------------+------------------+
| Alpine              | PASS               | SKIPPED           | SKIPPED              | PASS             |
+---------------------+--------------------+-------------------+----------------------+------------------+


FreeBSD 13.3
	Kernel: 13.3-RELEASE-p1
	Compiler: clang 17.0.6

Windows Server 2019
	Kernel: 10.0.17763
	Compiler: clang 14.0 and gcc 8.1.0 (MinGW)

FreeBSD 14.0
	Kernel: 14.0
	Compiler: clang 16.0.6

Windows Server 2022
	Kernel: 10.0.20348.2031
	Compiler: clang 15.0.7, gcc 8.1.0 (MinGW), and MSVC VS 17.9

CentOS Stream 8
	Kernel: 5.4.0-167-generic
	Compiler: gcc 8.5.0 20210514

CentOS Stream 9
	Kernel: 5.4.0-167-generic
	Compiler: gcc 11.4.1 20230605

Debian 12
	Kernel: Container Host Kernel
	Compiler: gcc 10.2.1

Debian Bullseye
	Kernel: 5.4.0-167-generic
	Compiler: gcc 10.2.1-6

Fedora 37
	Kernel: Depends on container host system
	Compiler: gcc 12.3.1

Fedora 38
	Kernel: Depends on container host
	Compiler: gcc 13.2.1

openSUSE Leap 15
	Kernel: 5.4.0-167-generic
	Compiler: gcc 7.5.0

Ubuntu 20.04
	Kernel: 5.4.0-167-generic
	Compiler: gcc 9.4.0-1ubuntu1~20.04.1

Fedora 39
	Kernel: Depends on container host
	Compiler: gcc 13.2.1

Ubuntu 22.04
	Kernel: 5.4.0-167-generic
	Compiler: gcc 11.4.0

RHEL8
	Kernel: 5.4.0-167-generic
	Compiler: gcc 8.5.0 20210514 (Red Hat 8.5.0-20)

Ubuntu 24.04
	Kernel: 5.4.0-167-generic
	Compiler: gcc 13.2.0

Alpine
	Kernel: 5.4.0-167-generic
	Compiler: gcc (Alpine 13.2.1_git20231014) 13.2.1 20231014

To view detailed results, visit:
https://lab.dpdk.org/results/dashboard/patchsets/30053/

UNH-IOL DPDK Community Lab

To manage your email subscriptions, visit: 
https://lab.dpdk.org/results/dashboard/preferences/subscriptions/


More information about the test-report mailing list