|SUCCESS| pw140504 [PATCH] [v5] eal: verify mmu type for DPDK suppor

dpdklab at iol.unh.edu dpdklab at iol.unh.edu
Sat Jun 1 04:16:55 CEST 2024


Test-Label: iol-compile-amd64-testing
Test-Status: SUCCESS
http://dpdk.org/patch/140504

_Testing PASS_

Submitter: David Christensen <drc at linux.ibm.com>
Date: Thursday, May 30 2024 16:44:47 
DPDK git baseline: Repo:dpdk
  Branch: master
  CommitID:76cef1af8bdaeaf67a5c4ca5df3f221df994dc46

140504 --> testing pass

Test environment and result as below:

+---------------------+-------------------+--------------------+----------------------+------------------+
|     Environment     | dpdk_msvc_compile | dpdk_meson_compile | dpdk_mingw64_compile | dpdk_compile_ovs |
+=====================+===================+====================+======================+==================+
| Windows Server 2022 | PASS              | PASS               | PASS                 | SKIPPED          |
+---------------------+-------------------+--------------------+----------------------+------------------+
| FreeBSD 13.3        | SKIPPED           | PASS               | SKIPPED              | SKIPPED          |
+---------------------+-------------------+--------------------+----------------------+------------------+
| Windows Server 2019 | SKIPPED           | PASS               | PASS                 | SKIPPED          |
+---------------------+-------------------+--------------------+----------------------+------------------+
| FreeBSD 14.0        | SKIPPED           | PASS               | SKIPPED              | SKIPPED          |
+---------------------+-------------------+--------------------+----------------------+------------------+
| CentOS Stream 8     | SKIPPED           | PASS               | SKIPPED              | PASS             |
+---------------------+-------------------+--------------------+----------------------+------------------+
| Debian Bullseye     | SKIPPED           | PASS               | SKIPPED              | PASS             |
+---------------------+-------------------+--------------------+----------------------+------------------+
| CentOS Stream 9     | SKIPPED           | PASS               | SKIPPED              | PASS             |
+---------------------+-------------------+--------------------+----------------------+------------------+
| Debian 12           | SKIPPED           | PASS               | SKIPPED              | PASS             |
+---------------------+-------------------+--------------------+----------------------+------------------+
| Fedora 37           | SKIPPED           | PASS               | SKIPPED              | PASS             |
+---------------------+-------------------+--------------------+----------------------+------------------+
| openSUSE Leap 15    | SKIPPED           | PASS               | SKIPPED              | PASS             |
+---------------------+-------------------+--------------------+----------------------+------------------+
| Ubuntu 22.04        | SKIPPED           | PASS               | SKIPPED              | PASS             |
+---------------------+-------------------+--------------------+----------------------+------------------+
| RHEL8               | SKIPPED           | PASS               | SKIPPED              | PASS             |
+---------------------+-------------------+--------------------+----------------------+------------------+
| Ubuntu 24.04        | SKIPPED           | PASS               | SKIPPED              | PASS             |
+---------------------+-------------------+--------------------+----------------------+------------------+
| Alpine              | SKIPPED           | PASS               | SKIPPED              | PASS             |
+---------------------+-------------------+--------------------+----------------------+------------------+
| Fedora 38           | SKIPPED           | PASS               | SKIPPED              | PASS             |
+---------------------+-------------------+--------------------+----------------------+------------------+
| Ubuntu 20.04        | SKIPPED           | PASS               | SKIPPED              | PASS             |
+---------------------+-------------------+--------------------+----------------------+------------------+
| Fedora 39           | SKIPPED           | PASS               | SKIPPED              | PASS             |
+---------------------+-------------------+--------------------+----------------------+------------------+


Windows Server 2022
	Kernel: 10.0.20348.2031
	Compiler: clang 15.0.7, gcc 8.1.0 (MinGW), and MSVC VS 17.9

FreeBSD 13.3
	Kernel: 13.3-RELEASE-p1
	Compiler: clang 17.0.6

Windows Server 2019
	Kernel: 10.0.17763
	Compiler: clang 14.0 and gcc 8.1.0 (MinGW)

FreeBSD 14.0
	Kernel: 14.0
	Compiler: clang 16.0.6

CentOS Stream 8
	Kernel: 5.4.0-167-generic
	Compiler: gcc 8.5.0 20210514

Debian Bullseye
	Kernel: 5.4.0-167-generic
	Compiler: gcc 10.2.1-6

CentOS Stream 9
	Kernel: 5.4.0-167-generic
	Compiler: gcc 11.4.1 20230605

Debian 12
	Kernel: Container Host Kernel
	Compiler: gcc 10.2.1

Fedora 37
	Kernel: Depends on container host system
	Compiler: gcc 12.3.1

openSUSE Leap 15
	Kernel: 5.4.0-167-generic
	Compiler: gcc 7.5.0

Ubuntu 22.04
	Kernel: 5.4.0-167-generic
	Compiler: gcc 11.4.0

RHEL8
	Kernel: 5.4.0-167-generic
	Compiler: gcc 8.5.0 20210514 (Red Hat 8.5.0-20)

Ubuntu 24.04
	Kernel: 5.4.0-167-generic
	Compiler: gcc 13.2.0

Alpine
	Kernel: 5.4.0-167-generic
	Compiler: gcc (Alpine 13.2.1_git20231014) 13.2.1 20231014

Fedora 38
	Kernel: Depends on container host
	Compiler: clang 16.0.6

Ubuntu 20.04
	Kernel: 5.4.0-167-generic
	Compiler: gcc 9.4.0-1ubuntu1~20.04.1

Fedora 39
	Kernel: Depends on container host
	Compiler: clang 17.0.6

To view detailed results, visit:
https://lab.dpdk.org/results/dashboard/patchsets/30057/

UNH-IOL DPDK Community Lab

To manage your email subscriptions, visit: 
https://lab.dpdk.org/results/dashboard/preferences/subscriptions/


More information about the test-report mailing list