|SUCCESS| pw140432 [PATCH] [v4] net/cpfl: get running host ID for CP
dpdklab at iol.unh.edu
dpdklab at iol.unh.edu
Sat Jun 1 08:26:10 CEST 2024
Test-Label: iol-abi-testing
Test-Status: SUCCESS
http://dpdk.org/patch/140432
_Testing PASS_
Submitter: Shaiq Wani <shaiq.wani at intel.com>
Date: Thursday, May 30 2024 09:39:58
DPDK git baseline: Repo:dpdk
Branch: master
CommitID:0d761dfc89b71fa46193a545cce3fbe2613856a6
140432 --> testing pass
Test environment and result as below:
+------------------+----------+
| Environment | abi_test |
+==================+==========+
| CentOS Stream 8 | PASS |
+------------------+----------+
| Fedora 37 | PASS |
+------------------+----------+
| CentOS Stream 9 | PASS |
+------------------+----------+
| Fedora 39 | PASS |
+------------------+----------+
| Fedora 38 | PASS |
+------------------+----------+
| openSUSE Leap 15 | PASS |
+------------------+----------+
| Debian Bullseye | PASS |
+------------------+----------+
| Debian 12 | PASS |
+------------------+----------+
| Ubuntu 22.04 | PASS |
+------------------+----------+
| RHEL8 | PASS |
+------------------+----------+
CentOS Stream 8
Kernel: 5.4.0-167-generic
Compiler: gcc 8.5.0 20210514
Fedora 37
Kernel: Depends on container host system
Compiler: gcc 12.3.1
CentOS Stream 9
Kernel: 5.4.0-167-generic
Compiler: gcc 11.4.1 20230605
Fedora 39
Kernel: Depends on container host
Compiler: gcc 13.2.1
Fedora 38
Kernel: Depends on container host
Compiler: clang 16.0.6
openSUSE Leap 15
Kernel: 5.4.0-167-generic
Compiler: gcc 7.5.0
Debian Bullseye
Kernel: 5.4.0-167-generic
Compiler: gcc 10.2.1-6
Debian 12
Kernel: Container Host Kernel
Compiler: gcc 10.2.1
Ubuntu 22.04
Kernel: 5.4.0-167-generic
Compiler: gcc 11.4.0
RHEL8
Kernel: 5.4.0-167-generic
Compiler: gcc 8.5.0 20210514 (Red Hat 8.5.0-20)
To view detailed results, visit:
https://lab.dpdk.org/results/dashboard/patchsets/30047/
UNH-IOL DPDK Community Lab
To manage your email subscriptions, visit:
https://lab.dpdk.org/results/dashboard/preferences/subscriptions/
More information about the test-report
mailing list