|SUCCESS| pw140433-140437 [PATCH] [v13,6/6] test: add unit test for

dpdklab at iol.unh.edu dpdklab at iol.unh.edu
Sat Jun 1 09:28:17 CEST 2024


Test-Label: iol-unit-arm64-testing
Test-Status: SUCCESS
http://dpdk.org/patch/140437

_Testing PASS_

Submitter: Paul Szczepanek <paul.szczepanek at arm.com>
Date: Thursday, May 30 2024 09:40:42 
DPDK git baseline: Repo:dpdk
  Branch: master
  CommitID:76cef1af8bdaeaf67a5c4ca5df3f221df994dc46

140433-140437 --> testing pass

Test environment and result as below:

+-----------------------------+------------------------------+---------------------------+----------------+
|         Environment         | cryptodev_sw_snow3g_autotest | cryptodev_sw_zuc_autotest | dpdk_unit_test |
+=============================+==============================+===========================+================+
| Debian 12 (arm)             | PASS                         | PASS                      | SKIPPED        |
+-----------------------------+------------------------------+---------------------------+----------------+
| Debian 11 (Buster) (ARM)    | SKIPPED                      | SKIPPED                   | PASS           |
+-----------------------------+------------------------------+---------------------------+----------------+
| Fedora 37 (ARM)             | SKIPPED                      | SKIPPED                   | PASS           |
+-----------------------------+------------------------------+---------------------------+----------------+
| 32-bit Ubuntu 20.04.4 (ARM) | SKIPPED                      | SKIPPED                   | PASS           |
+-----------------------------+------------------------------+---------------------------+----------------+
| Fedora 39 (ARM Clang)       | SKIPPED                      | SKIPPED                   | PASS           |
+-----------------------------+------------------------------+---------------------------+----------------+
| Fedora 39 (ARM)             | SKIPPED                      | SKIPPED                   | PASS           |
+-----------------------------+------------------------------+---------------------------+----------------+
| Fedora 38 (ARM)             | SKIPPED                      | SKIPPED                   | PASS           |
+-----------------------------+------------------------------+---------------------------+----------------+
| Fedora 38 (ARM Clang)       | SKIPPED                      | SKIPPED                   | PASS           |
+-----------------------------+------------------------------+---------------------------+----------------+
| Ubuntu 20.04 (ARM)          | SKIPPED                      | SKIPPED                   | PASS           |
+-----------------------------+------------------------------+---------------------------+----------------+
| Ubuntu 24.04 (ARM)          | SKIPPED                      | SKIPPED                   | PASS           |
+-----------------------------+------------------------------+---------------------------+----------------+


Debian 12 (arm)
	Kernel: Container Host Kernel
	Compiler: gcc 12.2.0

Debian 11 (Buster) (ARM)
	Kernel: Container Host Kernel
	Compiler: gcc 10.2.1

Fedora 37 (ARM)
	Kernel: Depends on container host
	Compiler: gcc 12.3.1

32-bit Ubuntu 20.04.4 (ARM)
	Kernel: 5.4.0-155-generic aarch64
	Compiler: gcc 9.4

Fedora 39 (ARM Clang)
	Kernel: Depends on container host
	Compiler: clang 17.0.6

Fedora 39 (ARM)
	Kernel: Depends on container host
	Compiler: gcc 13.2.1

Fedora 38 (ARM)
	Kernel: Depends on container host
	Compiler: gcc 13.2.1

Fedora 38 (ARM Clang)
	Kernel: Depends on container host
	Compiler: clang 16.0.6

Ubuntu 20.04 (ARM)
	Kernel: Container Host Kernel
	Compiler: gcc 9.4.0

Ubuntu 24.04 (ARM)
	Kernel: 5.4.0-167-generic
	Compiler: gcc 13.2.0

To view detailed results, visit:
https://lab.dpdk.org/results/dashboard/patchsets/30048/

UNH-IOL DPDK Community Lab

To manage your email subscriptions, visit: 
https://lab.dpdk.org/results/dashboard/preferences/subscriptions/


More information about the test-report mailing list