|SUCCESS| pw140432 [PATCH] [v4] net/cpfl: get running host ID for CP
dpdklab at iol.unh.edu
dpdklab at iol.unh.edu
Sat Jun 1 12:55:30 CEST 2024
Test-Label: iol-compile-arm64-testing
Test-Status: SUCCESS
http://dpdk.org/patch/140432
_Testing PASS_
Submitter: Shaiq Wani <shaiq.wani at intel.com>
Date: Thursday, May 30 2024 09:39:58
DPDK git baseline: Repo:dpdk
Branch: master
CommitID:0d761dfc89b71fa46193a545cce3fbe2613856a6
140432 --> testing pass
Test environment and result as below:
+--------------------------+--------------------+
| Environment | dpdk_meson_compile |
+==========================+====================+
| Ubuntu 20.04 ARM SVE | PASS |
+--------------------------+--------------------+
| Debian 12 with MUSDK | PASS |
+--------------------------+--------------------+
| Fedora 37 (ARM) | PASS |
+--------------------------+--------------------+
| Fedora 39 (ARM) | PASS |
+--------------------------+--------------------+
| Ubuntu 20.04 (ARM) | PASS |
+--------------------------+--------------------+
| Ubuntu 24.04 (ARM) | PASS |
+--------------------------+--------------------+
| CentOS Stream 9 (ARM) | PASS |
+--------------------------+--------------------+
| Debian 12 (arm) | PASS |
+--------------------------+--------------------+
| Debian 11 (Buster) (ARM) | PASS |
+--------------------------+--------------------+
| Fedora 38 (ARM) | PASS |
+--------------------------+--------------------+
| Ubuntu 22.04 (ARM) | PASS |
+--------------------------+--------------------+
Ubuntu 20.04 ARM SVE
Kernel: 5.4.0-167-generic
Compiler: gcc (Ubuntu 10.5.0-1ubuntu1~20.04) 10.5.0
Debian 12 with MUSDK
Kernel: Container Host Kernel
Compiler: gcc 12.2.0
Fedora 37 (ARM)
Kernel: Depends on container host
Compiler: gcc 12.3.1
Fedora 39 (ARM)
Kernel: Depends on container host
Compiler: gcc 13.2.1
Ubuntu 20.04 (ARM)
Kernel: Container Host Kernel
Compiler: gcc 9.4.0
Ubuntu 24.04 (ARM)
Kernel: 5.4.0-167-generic
Compiler: gcc 13.2.0
CentOS Stream 9 (ARM)
Kernel: Container Host Kernel
Compiler: gcc 11.4.1
Debian 12 (arm)
Kernel: Container Host Kernel
Compiler: gcc 12.2.0
Debian 11 (Buster) (ARM)
Kernel: Container Host Kernel
Compiler: gcc 10.2.1
Fedora 38 (ARM)
Kernel: Depends on container host
Compiler: gcc 13.2.1
Ubuntu 22.04 (ARM)
Kernel: Container Host Kernel
Compiler: gcc 11.4.0
To view detailed results, visit:
https://lab.dpdk.org/results/dashboard/patchsets/30047/
UNH-IOL DPDK Community Lab
To manage your email subscriptions, visit:
https://lab.dpdk.org/results/dashboard/preferences/subscriptions/
More information about the test-report
mailing list