|SUCCESS| pw140409-140428 [PATCH] [v10,20/20] drivers: remove use of

dpdklab at iol.unh.edu dpdklab at iol.unh.edu
Sat Jun 1 13:18:19 CEST 2024


Test-Label: iol-unit-arm64-testing
Test-Status: SUCCESS
http://dpdk.org/patch/140428

_Testing PASS_

Submitter: Stephen Hemminger <stephen at networkplumber.org>
Date: Wednesday, May 29 2024 23:33:54 
DPDK git baseline: Repo:dpdk
  Branch: master
  CommitID:76cef1af8bdaeaf67a5c4ca5df3f221df994dc46

140409-140428 --> testing pass

Test environment and result as below:

+-----------------------------+----------------+------------------------------+
|         Environment         | dpdk_unit_test | cryptodev_sw_snow3g_autotest |
+=============================+================+==============================+
| Debian 12 (arm)             | PASS           | PASS                         |
+-----------------------------+----------------+------------------------------+
| 32-bit Ubuntu 20.04.4 (ARM) | PASS           | SKIPPED                      |
+-----------------------------+----------------+------------------------------+
| Debian 11 (Buster) (ARM)    | PASS           | SKIPPED                      |
+-----------------------------+----------------+------------------------------+
| Fedora 37 (ARM)             | PASS           | SKIPPED                      |
+-----------------------------+----------------+------------------------------+
| CentOS Stream 9 (ARM)       | PASS           | SKIPPED                      |
+-----------------------------+----------------+------------------------------+
| Fedora 39 (ARM)             | PASS           | SKIPPED                      |
+-----------------------------+----------------+------------------------------+
| Fedora 38 (ARM Clang)       | PASS           | SKIPPED                      |
+-----------------------------+----------------+------------------------------+


Debian 12 (arm)
	Kernel: Container Host Kernel
	Compiler: gcc 12.2.0

32-bit Ubuntu 20.04.4 (ARM)
	Kernel: 5.4.0-155-generic aarch64
	Compiler: gcc 9.4

Debian 11 (Buster) (ARM)
	Kernel: Container Host Kernel
	Compiler: gcc 10.2.1

Fedora 37 (ARM)
	Kernel: Depends on container host
	Compiler: gcc 12.3.1

CentOS Stream 9 (ARM)
	Kernel: Container Host Kernel
	Compiler: gcc 11.4.1

Fedora 39 (ARM)
	Kernel: Depends on container host
	Compiler: gcc 13.2.1

Fedora 38 (ARM Clang)
	Kernel: Depends on container host
	Compiler: clang 16.0.6

To view detailed results, visit:
https://lab.dpdk.org/results/dashboard/patchsets/30044/

UNH-IOL DPDK Community Lab

To manage your email subscriptions, visit: 
https://lab.dpdk.org/results/dashboard/preferences/subscriptions/


More information about the test-report mailing list