|SUCCESS| pw140397-140399 [PATCH] [v3,3/3] dts: Improve logging for
dpdklab at iol.unh.edu
dpdklab at iol.unh.edu
Sat Jun 1 19:06:31 CEST 2024
Test-Label: iol-unit-arm64-testing
Test-Status: SUCCESS
http://dpdk.org/patch/140399
_Testing PASS_
Submitter: Jeremy Spewock <jspewock at iol.unh.edu>
Date: Wednesday, May 29 2024 19:49:10
DPDK git baseline: Repo:dpdk
Branch: master
CommitID:76cef1af8bdaeaf67a5c4ca5df3f221df994dc46
140397-140399 --> testing pass
Test environment and result as below:
+-----------------------------+----------------+
| Environment | dpdk_unit_test |
+=============================+================+
| 32-bit Ubuntu 20.04.4 (ARM) | PASS |
+-----------------------------+----------------+
| CentOS Stream 9 (ARM) | PASS |
+-----------------------------+----------------+
| Debian 11 (Buster) (ARM) | PASS |
+-----------------------------+----------------+
| Debian 12 (arm) | PASS |
+-----------------------------+----------------+
32-bit Ubuntu 20.04.4 (ARM)
Kernel: 5.4.0-155-generic aarch64
Compiler: gcc 9.4
CentOS Stream 9 (ARM)
Kernel: Container Host Kernel
Compiler: gcc 11.4.1
Debian 11 (Buster) (ARM)
Kernel: Container Host Kernel
Compiler: gcc 10.2.1
Debian 12 (arm)
Kernel: Container Host Kernel
Compiler: gcc 12.2.0
To view detailed results, visit:
https://lab.dpdk.org/results/dashboard/patchsets/30041/
UNH-IOL DPDK Community Lab
To manage your email subscriptions, visit:
https://lab.dpdk.org/results/dashboard/preferences/subscriptions/
More information about the test-report
mailing list