|SUCCESS| pw140540 [PATCH] [v2] dumpcap: add lcores option
dpdklab at iol.unh.edu
dpdklab at iol.unh.edu
Sat Jun 1 20:33:02 CEST 2024
Test-Label: iol-unit-arm64-testing
Test-Status: SUCCESS
http://dpdk.org/patch/140540
_Testing PASS_
Submitter: Stephen Hemminger <stephen at networkplumber.org>
Date: Friday, May 31 2024 23:33:55
DPDK git baseline: Repo:dpdk
Branch: master
CommitID:76cef1af8bdaeaf67a5c4ca5df3f221df994dc46
140540 --> testing pass
Test environment and result as below:
+-----------------------------+----------------+------------------------------+---------------------------+
| Environment | dpdk_unit_test | cryptodev_sw_snow3g_autotest | cryptodev_sw_zuc_autotest |
+=============================+================+==============================+===========================+
| 32-bit Ubuntu 20.04.4 (ARM) | PASS | SKIPPED | SKIPPED |
+-----------------------------+----------------+------------------------------+---------------------------+
| CentOS Stream 9 (ARM) | PASS | SKIPPED | SKIPPED |
+-----------------------------+----------------+------------------------------+---------------------------+
| Debian 12 (arm) | PASS | PASS | PASS |
+-----------------------------+----------------+------------------------------+---------------------------+
| Fedora 37 (ARM) | PASS | SKIPPED | SKIPPED |
+-----------------------------+----------------+------------------------------+---------------------------+
32-bit Ubuntu 20.04.4 (ARM)
Kernel: 5.4.0-155-generic aarch64
Compiler: gcc 9.4
CentOS Stream 9 (ARM)
Kernel: Container Host Kernel
Compiler: gcc 11.4.1
Debian 12 (arm)
Kernel: Container Host Kernel
Compiler: gcc 12.2.0
Fedora 37 (ARM)
Kernel: Depends on container host
Compiler: gcc 12.3.1
To view detailed results, visit:
https://lab.dpdk.org/results/dashboard/patchsets/30068/
UNH-IOL DPDK Community Lab
To manage your email subscriptions, visit:
https://lab.dpdk.org/results/dashboard/preferences/subscriptions/
More information about the test-report
mailing list