|SUCCESS| pw140538 [PATCH] Revert "bus/vdev: fix devargs in secondar
dpdklab at iol.unh.edu
dpdklab at iol.unh.edu
Sat Jun 1 21:15:09 CEST 2024
Test-Label: iol-compile-amd64-testing
Test-Status: SUCCESS
http://dpdk.org/patch/140538
_Testing PASS_
Submitter: Stephen Hemminger <stephen at networkplumber.org>
Date: Friday, May 31 2024 17:41:18
DPDK git baseline: Repo:dpdk
Branch: master
CommitID:76cef1af8bdaeaf67a5c4ca5df3f221df994dc46
140538 --> testing pass
Test environment and result as below:
+---------------------+--------------------+-------------------+----------------------+
| Environment | dpdk_meson_compile | dpdk_msvc_compile | dpdk_mingw64_compile |
+=====================+====================+===================+======================+
| FreeBSD 14.0 | PASS | SKIPPED | SKIPPED |
+---------------------+--------------------+-------------------+----------------------+
| Windows Server 2022 | PASS | PASS | PASS |
+---------------------+--------------------+-------------------+----------------------+
| FreeBSD 13.3 | PASS | SKIPPED | SKIPPED |
+---------------------+--------------------+-------------------+----------------------+
| Windows Server 2019 | PASS | SKIPPED | SKIPPED |
+---------------------+--------------------+-------------------+----------------------+
FreeBSD 14.0
Kernel: 14.0
Compiler: clang 16.0.6
Windows Server 2022
Kernel: 10.0.20348.2031
Compiler: clang 15.0.7, gcc 8.1.0 (MinGW), and MSVC VS 17.9
FreeBSD 13.3
Kernel: 13.3-RELEASE-p1
Compiler: clang 17.0.6
Windows Server 2019
Kernel: 10.0.17763
Compiler: clang 14.0 and gcc 8.1.0 (MinGW)
To view detailed results, visit:
https://lab.dpdk.org/results/dashboard/patchsets/30067/
UNH-IOL DPDK Community Lab
To manage your email subscriptions, visit:
https://lab.dpdk.org/results/dashboard/preferences/subscriptions/
More information about the test-report
mailing list