|SUCCESS| [GIT MASTER] 76cef1af8bdaeaf67a5c4ca5df3f221df994dc46

dpdklab at iol.unh.edu dpdklab at iol.unh.edu
Sun Jun 2 02:27:42 CEST 2024


_Testing PASS_

Branch: dpdk

76cef1af8bdaeaf67a5c4ca5df3f221df994dc46 --> testing pass

Test environment and result as below:

+--------------------------+---------------------------+----------------+
|       Environment        | cryptodev_sw_zuc_autotest | dpdk_unit_test |
+==========================+===========================+================+
| Debian 12 (arm)          | PASS                      | SKIPPED        |
+--------------------------+---------------------------+----------------+
| CentOS Stream 9 (ARM)    | SKIPPED                   | PASS           |
+--------------------------+---------------------------+----------------+
| Debian 11 (Buster) (ARM) | SKIPPED                   | PASS           |
+--------------------------+---------------------------+----------------+


Debian 12 (arm)
	Kernel: Container Host Kernel
	Compiler: gcc 12.2.0

CentOS Stream 9 (ARM)
	Kernel: Container Host Kernel
	Compiler: gcc 11.4.1

Debian 11 (Buster) (ARM)
	Kernel: Container Host Kernel
	Compiler: gcc 10.2.1

To view detailed results, visit:
https://lab.dpdk.org/results/dashboard/tarballs/29301/

UNH-IOL DPDK Community Lab

To manage your email subscriptions, visit: 
https://lab.dpdk.org/results/dashboard/preferences/subscriptions/


More information about the test-report mailing list