|SUCCESS| [GIT MASTER] 76cef1af8bdaeaf67a5c4ca5df3f221df994dc46
dpdklab at iol.unh.edu
dpdklab at iol.unh.edu
Sun Jun 2 02:39:39 CEST 2024
_Testing PASS_
Branch: dpdk
76cef1af8bdaeaf67a5c4ca5df3f221df994dc46 --> testing pass
Test environment and result as below:
+---------------------+--------------------+------------------+----------------------+-------------------+
| Environment | dpdk_meson_compile | dpdk_compile_ovs | dpdk_mingw64_compile | dpdk_msvc_compile |
+=====================+====================+==================+======================+===================+
| CentOS Stream 8 | PASS | PASS | SKIPPED | SKIPPED |
+---------------------+--------------------+------------------+----------------------+-------------------+
| Fedora 37 | PASS | PASS | SKIPPED | SKIPPED |
+---------------------+--------------------+------------------+----------------------+-------------------+
| CentOS Stream 9 | PASS | PASS | SKIPPED | SKIPPED |
+---------------------+--------------------+------------------+----------------------+-------------------+
| Fedora 38 | PASS | PASS | SKIPPED | SKIPPED |
+---------------------+--------------------+------------------+----------------------+-------------------+
| Debian Bullseye | PASS | PASS | SKIPPED | SKIPPED |
+---------------------+--------------------+------------------+----------------------+-------------------+
| FreeBSD 13.3 | PASS | SKIPPED | SKIPPED | SKIPPED |
+---------------------+--------------------+------------------+----------------------+-------------------+
| Fedora 39 | PASS | PASS | SKIPPED | SKIPPED |
+---------------------+--------------------+------------------+----------------------+-------------------+
| openSUSE Leap 15 | PASS | PASS | SKIPPED | SKIPPED |
+---------------------+--------------------+------------------+----------------------+-------------------+
| Debian 12 | PASS | PASS | SKIPPED | SKIPPED |
+---------------------+--------------------+------------------+----------------------+-------------------+
| Windows Server 2019 | PASS | SKIPPED | PASS | SKIPPED |
+---------------------+--------------------+------------------+----------------------+-------------------+
| Windows Server 2022 | PASS | SKIPPED | PASS | PASS |
+---------------------+--------------------+------------------+----------------------+-------------------+
| FreeBSD 14.0 | PASS | SKIPPED | SKIPPED | SKIPPED |
+---------------------+--------------------+------------------+----------------------+-------------------+
| Ubuntu 24.04 | PASS | PASS | SKIPPED | SKIPPED |
+---------------------+--------------------+------------------+----------------------+-------------------+
| Ubuntu 22.04 | PASS | PASS | SKIPPED | SKIPPED |
+---------------------+--------------------+------------------+----------------------+-------------------+
| RHEL8 | PASS | PASS | SKIPPED | SKIPPED |
+---------------------+--------------------+------------------+----------------------+-------------------+
CentOS Stream 8
Kernel: 5.4.0-167-generic
Compiler: gcc 8.5.0 20210514
Fedora 37
Kernel: Depends on container host system
Compiler: gcc 12.3.1
CentOS Stream 9
Kernel: 5.4.0-167-generic
Compiler: gcc 11.4.1 20230605
Fedora 38
Kernel: Depends on container host
Compiler: gcc 13.2.1
Debian Bullseye
Kernel: 5.4.0-167-generic
Compiler: gcc 10.2.1-6
FreeBSD 13.3
Kernel: 13.3-RELEASE-p1
Compiler: clang 17.0.6
Fedora 39
Kernel: Depends on container host
Compiler: gcc 13.2.1
openSUSE Leap 15
Kernel: 5.4.0-167-generic
Compiler: gcc 7.5.0
Debian 12
Kernel: Container Host Kernel
Compiler: gcc 10.2.1
Windows Server 2019
Kernel: 10.0.17763
Compiler: clang 14.0 and gcc 8.1.0 (MinGW)
Windows Server 2022
Kernel: 10.0.20348.2031
Compiler: clang 15.0.7, gcc 8.1.0 (MinGW), and MSVC VS 17.9
FreeBSD 14.0
Kernel: 14.0
Compiler: clang 16.0.6
Ubuntu 24.04
Kernel: 5.4.0-167-generic
Compiler: gcc 13.2.0
Ubuntu 22.04
Kernel: 5.4.0-167-generic
Compiler: gcc 11.4.0
RHEL8
Kernel: 5.4.0-167-generic
Compiler: gcc 8.5.0 20210514 (Red Hat 8.5.0-20)
To view detailed results, visit:
https://lab.dpdk.org/results/dashboard/tarballs/29301/
UNH-IOL DPDK Community Lab
To manage your email subscriptions, visit:
https://lab.dpdk.org/results/dashboard/preferences/subscriptions/
More information about the test-report
mailing list