|SUCCESS| pw140541-140544 [PATCH] [v2,4/4] testpmd: add support for 
    dpdklab at iol.unh.edu 
    dpdklab at iol.unh.edu
       
    Sun Jun  2 05:40:37 CEST 2024
    
    
  
Test-Label: iol-abi-testing
Test-Status: SUCCESS
http://dpdk.org/patch/140544
_Testing PASS_
Submitter: Damodharam Ammepalli <damodharam.ammepalli at broadcom.com>
Date: Sunday, June 02 2024 02:45:04 
DPDK git baseline: Repo:dpdk
  Branch: master
  CommitID:2dbb63594a9a985e2c8639b57f9fcd1468b9de97
140541-140544 --> testing pass
Test environment and result as below:
+------------------+----------+
|   Environment    | abi_test |
+==================+==========+
| Ubuntu 22.04     | PASS     |
+------------------+----------+
| Fedora 38        | PASS     |
+------------------+----------+
| Debian 12        | PASS     |
+------------------+----------+
| openSUSE Leap 15 | PASS     |
+------------------+----------+
| Debian Bullseye  | PASS     |
+------------------+----------+
| CentOS Stream 9  | PASS     |
+------------------+----------+
| CentOS Stream 8  | PASS     |
+------------------+----------+
| RHEL8            | PASS     |
+------------------+----------+
Ubuntu 22.04
	Kernel: 5.4.0-167-generic
	Compiler: gcc 11.4.0
Fedora 38
	Kernel: Depends on container host
	Compiler: clang 16.0.6
Debian 12
	Kernel: Container Host Kernel
	Compiler: gcc 10.2.1
openSUSE Leap 15
	Kernel: 5.4.0-167-generic
	Compiler: gcc 7.5.0
Debian Bullseye
	Kernel: 5.4.0-167-generic
	Compiler: gcc 10.2.1-6
CentOS Stream 9
	Kernel: 5.4.0-167-generic
	Compiler: gcc 11.4.1 20230605
CentOS Stream 8
	Kernel: 5.4.0-167-generic
	Compiler: gcc 8.5.0 20210514
RHEL8
	Kernel: 5.4.0-167-generic
	Compiler: gcc 8.5.0 20210514 (Red Hat 8.5.0-20)
To view detailed results, visit:
https://lab.dpdk.org/results/dashboard/patchsets/30069/
UNH-IOL DPDK Community Lab
To manage your email subscriptions, visit: 
https://lab.dpdk.org/results/dashboard/preferences/subscriptions/
    
    
More information about the test-report
mailing list