|SUCCESS| pw140541-140544 [PATCH] [v2,4/4] testpmd: add support for

dpdklab at iol.unh.edu dpdklab at iol.unh.edu
Sun Jun 2 05:57:53 CEST 2024


Test-Label: iol-unit-arm64-testing
Test-Status: SUCCESS
http://dpdk.org/patch/140544

_Testing PASS_

Submitter: Damodharam Ammepalli <damodharam.ammepalli at broadcom.com>
Date: Sunday, June 02 2024 02:45:04 
DPDK git baseline: Repo:dpdk
  Branch: master
  CommitID:2dbb63594a9a985e2c8639b57f9fcd1468b9de97

140541-140544 --> testing pass

Test environment and result as below:

+-----------------------------+---------------------------+----------------+
|         Environment         | cryptodev_sw_zuc_autotest | dpdk_unit_test |
+=============================+===========================+================+
| Debian 12 (arm)             | PASS                      | PASS           |
+-----------------------------+---------------------------+----------------+
| 32-bit Ubuntu 20.04.4 (ARM) | SKIPPED                   | PASS           |
+-----------------------------+---------------------------+----------------+


Debian 12 (arm)
	Kernel: Container Host Kernel
	Compiler: gcc 12.2.0

32-bit Ubuntu 20.04.4 (ARM)
	Kernel: 5.4.0-155-generic aarch64
	Compiler: gcc 9.4

To view detailed results, visit:
https://lab.dpdk.org/results/dashboard/patchsets/30069/

UNH-IOL DPDK Community Lab

To manage your email subscriptions, visit: 
https://lab.dpdk.org/results/dashboard/preferences/subscriptions/


More information about the test-report mailing list