|SUCCESS| pw140553 [PATCH] app/testpmd: support retrying device stop

dpdklab at iol.unh.edu dpdklab at iol.unh.edu
Sun Jun 2 16:42:21 CEST 2024


Test-Label: iol-abi-testing
Test-Status: SUCCESS
http://dpdk.org/patch/140553

_Testing PASS_

Submitter: Maayan Kashani <mkashani at nvidia.com>
Date: Sunday, June 02 2024 10:30:35 
DPDK git baseline: Repo:dpdk
  Branch: master
  CommitID:2dbb63594a9a985e2c8639b57f9fcd1468b9de97

140553 --> testing pass

Test environment and result as below:

+-----------------+----------+
|   Environment   | abi_test |
+=================+==========+
| Fedora 38       | PASS     |
+-----------------+----------+
| Debian Bullseye | PASS     |
+-----------------+----------+
| CentOS Stream 8 | PASS     |
+-----------------+----------+
| Fedora 39       | PASS     |
+-----------------+----------+
| CentOS Stream 9 | PASS     |
+-----------------+----------+


Fedora 38
	Kernel: Depends on container host
	Compiler: gcc 13.2.1

Debian Bullseye
	Kernel: 5.4.0-167-generic
	Compiler: gcc 10.2.1-6

CentOS Stream 8
	Kernel: 5.4.0-167-generic
	Compiler: gcc 8.5.0 20210514

Fedora 39
	Kernel: Depends on container host
	Compiler: clang 17.0.6

CentOS Stream 9
	Kernel: 5.4.0-167-generic
	Compiler: gcc 11.4.1 20230605

To view detailed results, visit:
https://lab.dpdk.org/results/dashboard/patchsets/30077/

UNH-IOL DPDK Community Lab

To manage your email subscriptions, visit: 
https://lab.dpdk.org/results/dashboard/preferences/subscriptions/


More information about the test-report mailing list