|SUCCESS| pw140553 [PATCH] app/testpmd: support retrying device stop

dpdklab at iol.unh.edu dpdklab at iol.unh.edu
Sun Jun 2 17:24:02 CEST 2024


Test-Label: iol-unit-arm64-testing
Test-Status: SUCCESS
http://dpdk.org/patch/140553

_Testing PASS_

Submitter: Maayan Kashani <mkashani at nvidia.com>
Date: Sunday, June 02 2024 10:30:35 
DPDK git baseline: Repo:dpdk
  Branch: master
  CommitID:2dbb63594a9a985e2c8639b57f9fcd1468b9de97

140553 --> testing pass

Test environment and result as below:

+-----------------------------+----------------+--------------+
|         Environment         | dpdk_unit_test | lpm_autotest |
+=============================+================+==============+
| 32-bit Ubuntu 20.04.4 (ARM) | PASS           | SKIPPED      |
+-----------------------------+----------------+--------------+
| CentOS Stream 9 (ARM)       | PASS           | SKIPPED      |
+-----------------------------+----------------+--------------+
| Ubuntu 20.04 ARM SVE        | SKIPPED        | PASS         |
+-----------------------------+----------------+--------------+


32-bit Ubuntu 20.04.4 (ARM)
	Kernel: 5.4.0-155-generic aarch64
	Compiler: gcc 9.4

CentOS Stream 9 (ARM)
	Kernel: Container Host Kernel
	Compiler: gcc 11.4.1

Ubuntu 20.04 ARM SVE
	Kernel: 5.4.0-167-generic
	Compiler: gcc (Ubuntu 10.5.0-1ubuntu1~20.04) 10.5.0

To view detailed results, visit:
https://lab.dpdk.org/results/dashboard/patchsets/30077/

UNH-IOL DPDK Community Lab

To manage your email subscriptions, visit: 
https://lab.dpdk.org/results/dashboard/preferences/subscriptions/


More information about the test-report mailing list