|SUCCESS| pw140648-140646 [PATCH] [v2,5/5] crypto/openssl: only set

dpdklab at iol.unh.edu dpdklab at iol.unh.edu
Mon Jun 3 22:10:50 CEST 2024


Test-Label: iol-compile-amd64-testing
Test-Status: SUCCESS
http://dpdk.org/patch/140646

_Testing PASS_

Submitter: Jack Bond-Preston <jack.bond-preston at foss.arm.com>
Date: Monday, June 03 2024 18:59:39 
DPDK git baseline: Repo:dpdk
  Branch: master
  CommitID:367b8db312517edb9f5340d280e77b1437d84dd3

140648-140646 --> testing pass

Test environment and result as below:

+---------------------+-------------------+--------------------+------------------+----------------------+
|     Environment     | dpdk_msvc_compile | dpdk_meson_compile | dpdk_compile_ovs | dpdk_mingw64_compile |
+=====================+===================+====================+==================+======================+
| Windows Server 2022 | PASS              | PASS               | SKIPPED          | PASS                 |
+---------------------+-------------------+--------------------+------------------+----------------------+
| FreeBSD 13.3        | SKIPPED           | PASS               | SKIPPED          | SKIPPED              |
+---------------------+-------------------+--------------------+------------------+----------------------+
| FreeBSD 14.0        | SKIPPED           | PASS               | SKIPPED          | SKIPPED              |
+---------------------+-------------------+--------------------+------------------+----------------------+
| Windows Server 2019 | SKIPPED           | PASS               | SKIPPED          | PASS                 |
+---------------------+-------------------+--------------------+------------------+----------------------+
| CentOS Stream 9     | SKIPPED           | PASS               | PASS             | SKIPPED              |
+---------------------+-------------------+--------------------+------------------+----------------------+
| Fedora 37           | SKIPPED           | PASS               | PASS             | SKIPPED              |
+---------------------+-------------------+--------------------+------------------+----------------------+
| Debian Bullseye     | SKIPPED           | PASS               | PASS             | SKIPPED              |
+---------------------+-------------------+--------------------+------------------+----------------------+
| Fedora 38           | SKIPPED           | PASS               | PASS             | SKIPPED              |
+---------------------+-------------------+--------------------+------------------+----------------------+


Windows Server 2022
	Kernel: 10.0.20348.2031
	Compiler: clang 15.0.7, gcc 8.1.0 (MinGW), and MSVC VS 17.9

FreeBSD 13.3
	Kernel: 13.3-RELEASE-p1
	Compiler: clang 17.0.6

FreeBSD 14.0
	Kernel: 14.0
	Compiler: clang 16.0.6

Windows Server 2019
	Kernel: 10.0.17763
	Compiler: clang 14.0 and gcc 8.1.0 (MinGW)

CentOS Stream 9
	Kernel: 5.4.0-167-generic
	Compiler: gcc 11.4.1 20230605

Fedora 37
	Kernel: Depends on container host system
	Compiler: gcc 12.3.1

Debian Bullseye
	Kernel: 5.4.0-167-generic
	Compiler: gcc 10.2.1-6

Fedora 38
	Kernel: Depends on container host
	Compiler: gcc 13.2.1

To view detailed results, visit:
https://lab.dpdk.org/results/dashboard/patchsets/30089/

UNH-IOL DPDK Community Lab

To manage your email subscriptions, visit: 
https://lab.dpdk.org/results/dashboard/preferences/subscriptions/


More information about the test-report mailing list