|SUCCESS| pw140639-140640 [PATCH] [v3,17/17] net/ntnic: add NIM modu
dpdklab at iol.unh.edu
dpdklab at iol.unh.edu
Mon Jun 3 23:31:11 CEST 2024
Test-Label: iol-compile-amd64-testing
Test-Status: SUCCESS
http://dpdk.org/patch/140640
_Testing PASS_
Submitter: Serhii Iliushyk <sil-plv at napatech.com>
Date: Monday, June 03 2024 16:18:14
DPDK git baseline: Repo:dpdk
Branch: master
CommitID:2dbb63594a9a985e2c8639b57f9fcd1468b9de97
140639-140640 --> testing pass
Test environment and result as below:
+---------------------+-------------------+--------------------+----------------------+------------------+
| Environment | dpdk_msvc_compile | dpdk_meson_compile | dpdk_mingw64_compile | dpdk_compile_ovs |
+=====================+===================+====================+======================+==================+
| Windows Server 2022 | PASS | PASS | PASS | SKIPPED |
+---------------------+-------------------+--------------------+----------------------+------------------+
| FreeBSD 13.3 | SKIPPED | PASS | SKIPPED | SKIPPED |
+---------------------+-------------------+--------------------+----------------------+------------------+
| Windows Server 2019 | SKIPPED | PASS | PASS | SKIPPED |
+---------------------+-------------------+--------------------+----------------------+------------------+
| FreeBSD 14.0 | SKIPPED | PASS | SKIPPED | SKIPPED |
+---------------------+-------------------+--------------------+----------------------+------------------+
| CentOS Stream 8 | SKIPPED | PASS | SKIPPED | PASS |
+---------------------+-------------------+--------------------+----------------------+------------------+
| Debian Bullseye | SKIPPED | PASS | SKIPPED | PASS |
+---------------------+-------------------+--------------------+----------------------+------------------+
Windows Server 2022
Kernel: 10.0.20348.2031
Compiler: clang 15.0.7, gcc 8.1.0 (MinGW), and MSVC VS 17.9
FreeBSD 13.3
Kernel: 13.3-RELEASE-p1
Compiler: clang 17.0.6
Windows Server 2019
Kernel: 10.0.17763
Compiler: clang 14.0 and gcc 8.1.0 (MinGW)
FreeBSD 14.0
Kernel: 14.0
Compiler: clang 16.0.6
CentOS Stream 8
Kernel: 5.4.0-167-generic
Compiler: gcc 8.5.0 20210514
Debian Bullseye
Kernel: 5.4.0-167-generic
Compiler: gcc 10.2.1-6
To view detailed results, visit:
https://lab.dpdk.org/results/dashboard/patchsets/30088/
UNH-IOL DPDK Community Lab
To manage your email subscriptions, visit:
https://lab.dpdk.org/results/dashboard/preferences/subscriptions/
More information about the test-report
mailing list