|SUCCESS| pw140670 [PATCH] net/mlx5: support jump in meter hierarchy

dpdklab at iol.unh.edu dpdklab at iol.unh.edu
Tue Jun 4 08:52:13 CEST 2024


Test-Label: iol-abi-testing
Test-Status: SUCCESS
http://dpdk.org/patch/140670

_Testing PASS_

Submitter: Shun Hao <shunh at nvidia.com>
Date: Tuesday, June 04 2024 02:51:56 
DPDK git baseline: Repo:dpdk
  Branch: master
  CommitID:2cb74c7eba40eb6ef163fa06420c1d36c714e568

140670 --> testing pass

Test environment and result as below:

+-----------------+----------+
|   Environment   | abi_test |
+=================+==========+
| CentOS Stream 8 | PASS     |
+-----------------+----------+
| Debian Bullseye | PASS     |
+-----------------+----------+
| Debian 12       | PASS     |
+-----------------+----------+
| Fedora 37       | PASS     |
+-----------------+----------+


CentOS Stream 8
	Kernel: 5.4.0-167-generic
	Compiler: gcc 8.5.0 20210514

Debian Bullseye
	Kernel: 5.4.0-167-generic
	Compiler: gcc 10.2.1-6

Debian 12
	Kernel: Container Host Kernel
	Compiler: gcc 10.2.1

Fedora 37
	Kernel: Depends on container host system
	Compiler: gcc 12.3.1

To view detailed results, visit:
https://lab.dpdk.org/results/dashboard/patchsets/30093/

UNH-IOL DPDK Community Lab

To manage your email subscriptions, visit: 
https://lab.dpdk.org/results/dashboard/preferences/subscriptions/


More information about the test-report mailing list