|SUCCESS| pw140673-140674 [PATCH] [V2,2/2] app/testpmd: introduce VX
dpdklab at iol.unh.edu
dpdklab at iol.unh.edu
Tue Jun 4 11:56:03 CEST 2024
Test-Label: iol-unit-amd64-testing
Test-Status: SUCCESS
http://dpdk.org/patch/140674
_Testing PASS_
Submitter: Gavin Li <gavinl at nvidia.com>
Date: Tuesday, June 04 2024 06:27:45
DPDK git baseline: Repo:dpdk
Branch: master
CommitID:2dbb63594a9a985e2c8639b57f9fcd1468b9de97
140673-140674 --> testing pass
Test environment and result as below:
+---------------------+----------------+
| Environment | dpdk_unit_test |
+=====================+================+
| Windows Server 2019 | PASS |
+---------------------+----------------+
| CentOS Stream 8 | PASS |
+---------------------+----------------+
| CentOS Stream 9 | PASS |
+---------------------+----------------+
| Debian Bullseye | PASS |
+---------------------+----------------+
| Fedora 37 | PASS |
+---------------------+----------------+
| Fedora 38 | PASS |
+---------------------+----------------+
| Fedora 39 | PASS |
+---------------------+----------------+
Windows Server 2019
Kernel: 10.0.17763
Compiler: clang 14.0 and gcc 8.1.0 (MinGW)
CentOS Stream 8
Kernel: 5.4.0-167-generic
Compiler: gcc 8.5.0 20210514
CentOS Stream 9
Kernel: 5.4.0-167-generic
Compiler: gcc 11.4.1 20230605
Debian Bullseye
Kernel: 5.4.0-167-generic
Compiler: gcc 10.2.1-6
Fedora 37
Kernel: Depends on container host system
Compiler: gcc 12.3.1
Fedora 38
Kernel: Depends on container host
Compiler: gcc 13.2.1
Fedora 39
Kernel: Depends on container host
Compiler: gcc 13.2.1
To view detailed results, visit:
https://lab.dpdk.org/results/dashboard/patchsets/30095/
UNH-IOL DPDK Community Lab
To manage your email subscriptions, visit:
https://lab.dpdk.org/results/dashboard/preferences/subscriptions/
More information about the test-report
mailing list