|SUCCESS| pw140670 [PATCH] net/mlx5: support jump in meter hierarchy

dpdklab at iol.unh.edu dpdklab at iol.unh.edu
Tue Jun 4 12:05:40 CEST 2024


Test-Label: iol-unit-arm64-testing
Test-Status: SUCCESS
http://dpdk.org/patch/140670

_Testing PASS_

Submitter: Shun Hao <shunh at nvidia.com>
Date: Tuesday, June 04 2024 02:51:56 
DPDK git baseline: Repo:dpdk
  Branch: master
  CommitID:2cb74c7eba40eb6ef163fa06420c1d36c714e568

140670 --> testing pass

Test environment and result as below:

+-----------------------------+----------------+--------------+---------------------------+
|         Environment         | dpdk_unit_test | lpm_autotest | cryptodev_sw_zuc_autotest |
+=============================+================+==============+===========================+
| 32-bit Ubuntu 20.04.4 (ARM) | PASS           | SKIPPED      | SKIPPED                   |
+-----------------------------+----------------+--------------+---------------------------+
| Debian 11 (Buster) (ARM)    | PASS           | SKIPPED      | SKIPPED                   |
+-----------------------------+----------------+--------------+---------------------------+
| CentOS Stream 9 (ARM)       | PASS           | SKIPPED      | SKIPPED                   |
+-----------------------------+----------------+--------------+---------------------------+
| Debian 12 (arm)             | PASS           | SKIPPED      | PASS                      |
+-----------------------------+----------------+--------------+---------------------------+
| Fedora 37 (ARM)             | PASS           | SKIPPED      | SKIPPED                   |
+-----------------------------+----------------+--------------+---------------------------+
| Fedora 38 (ARM)             | PASS           | SKIPPED      | SKIPPED                   |
+-----------------------------+----------------+--------------+---------------------------+
| Ubuntu 20.04 ARM SVE        | SKIPPED        | PASS         | SKIPPED                   |
+-----------------------------+----------------+--------------+---------------------------+


32-bit Ubuntu 20.04.4 (ARM)
	Kernel: 5.4.0-155-generic aarch64
	Compiler: gcc 9.4

Debian 11 (Buster) (ARM)
	Kernel: Container Host Kernel
	Compiler: gcc 10.2.1

CentOS Stream 9 (ARM)
	Kernel: Container Host Kernel
	Compiler: gcc 11.4.1

Debian 12 (arm)
	Kernel: Container Host Kernel
	Compiler: gcc 12.2.0

Fedora 37 (ARM)
	Kernel: Depends on container host
	Compiler: gcc 12.3.1

Fedora 38 (ARM)
	Kernel: Depends on container host
	Compiler: gcc 13.2.1

Ubuntu 20.04 ARM SVE
	Kernel: 5.4.0-167-generic
	Compiler: gcc (Ubuntu 10.5.0-1ubuntu1~20.04) 10.5.0

To view detailed results, visit:
https://lab.dpdk.org/results/dashboard/patchsets/30093/

UNH-IOL DPDK Community Lab

To manage your email subscriptions, visit: 
https://lab.dpdk.org/results/dashboard/preferences/subscriptions/


More information about the test-report mailing list